BEGIN:VCALENDAR
VERSION:2.0
PRODID:-//Visit Lexington MA - ECPv6.15.13//NONSGML v1.0//EN
CALSCALE:GREGORIAN
METHOD:PUBLISH
X-WR-CALNAME:Visit Lexington MA
X-ORIGINAL-URL:https://www.tourlexington.us
X-WR-CALDESC:Events for Visit Lexington MA
REFRESH-INTERVAL;VALUE=DURATION:PT1H
X-Robots-Tag:noindex
X-PUBLISHED-TTL:PT1H
BEGIN:VTIMEZONE
TZID:America/New_York
BEGIN:DAYLIGHT
TZOFFSETFROM:-0500
TZOFFSETTO:-0400
TZNAME:EDT
DTSTART:20250309T070000
END:DAYLIGHT
BEGIN:STANDARD
TZOFFSETFROM:-0400
TZOFFSETTO:-0500
TZNAME:EST
DTSTART:20251102T060000
END:STANDARD
BEGIN:DAYLIGHT
TZOFFSETFROM:-0500
TZOFFSETTO:-0400
TZNAME:EDT
DTSTART:20260308T070000
END:DAYLIGHT
BEGIN:STANDARD
TZOFFSETFROM:-0400
TZOFFSETTO:-0500
TZNAME:EST
DTSTART:20261101T060000
END:STANDARD
BEGIN:DAYLIGHT
TZOFFSETFROM:-0500
TZOFFSETTO:-0400
TZNAME:EDT
DTSTART:20270314T070000
END:DAYLIGHT
BEGIN:STANDARD
TZOFFSETFROM:-0400
TZOFFSETTO:-0500
TZNAME:EST
DTSTART:20271107T060000
END:STANDARD
END:VTIMEZONE
BEGIN:VEVENT
DTSTART;VALUE=DATE:20260101
DTEND;VALUE=DATE:20260301
DTSTAMP:20260425T181030
CREATED:20251219T192839Z
LAST-MODIFIED:20251219T192936Z
UID:10000455-1767225600-1772323199@www.tourlexington.us
SUMMARY:From Her Lens
DESCRIPTION:A photography exhibit by women night photographers. Featuring the work of 20 photographers from around the world. \nExhibit from January 1 thru February 28th\, 2026.
URL:https://www.tourlexington.us/event/from-her-lens/
LOCATION:Lexington Community Center\, 39 Marrett Road\, Lexington\, MA\, 02421\, United States
CATEGORIES:Art/Cultural Event
ATTACH;FMTTYPE=image/jpeg:https://www.tourlexington.us/wp-content/uploads/2025/12/FROM-HER-LENS.jpg-scaled.jpg
END:VEVENT
BEGIN:VEVENT
DTSTART;TZID=America/New_York:20260224T193000
DTEND;TZID=America/New_York:20260224T210000
DTSTAMP:20260425T181030
CREATED:20260130T172235Z
LAST-MODIFIED:20260130T172905Z
UID:10000493-1771961400-1771966800@www.tourlexington.us
SUMMARY:Oral Storytelling Workshop
DESCRIPTION:**Offsite- This event will take place at First Parish Lexington\, 7 Harrington Rd\, Lexington (rear entrance\, parking available) \nLearn to tell your compelling\, personal\, true story in front of a live audience\, in the tradition of The Moth\, Stories from the Stage\, and Lexington’s own Voices on the Green. \nIn this  free\, introductory 90 minute workshop\, you will hear examples of successful stories\, learn to find your own story through a series of fun exercises\, and have an opportunity to discuss your story in a small group. \nCo-sponsored by Cary Memorial Library and Voices on the Green. \n  \nRegistration is required. Space is limited. \n  \nInstructors: \nKemp Harris is a composer\, musician\, children’s author\, actor\, and teacher. Kemp taught K–1 in the Newton Public Schools for 38 years. He has shared the stage with Taj Mahal and Gil Scott-Heron\, composed for the Alvin Ailey American Dance Theater\, Complexions Contemporary Ballet\, and WGBH Public Television. Kemp has appeared on WGBH “Stories from the Stage” and visits schools to share his stories. He enjoys performing with his band\, the Kemp Harris Group. \nSuzanne Ketchum Adams has been a resident of Lexington for 26 years. She serves as Storytelling Director of Voices on the Green\, Lexington’s Storytelling and Music series\, where she first told a story in 2017 and has since coached many others to tell their own stories. Suzanne has told stories at The Moth\, Stories from the Stage\, MassMouth\, and Fugitive Stories\, and she is currently at work on a novel.
URL:https://www.tourlexington.us/event/oral-storytelling-workshop/
LOCATION:First Parish Church\, 7 Harrington Road\, LEXINGTON\, MA\, 02421\, United States
CATEGORIES:Art/Cultural Event
ORGANIZER;CN="Voices on the Green":MAILTO:voicesonthegreen@fplex.org
END:VEVENT
END:VCALENDAR