BEGIN:VCALENDAR
VERSION:2.0
PRODID:-//Visit Lexington MA - ECPv6.15.13//NONSGML v1.0//EN
CALSCALE:GREGORIAN
METHOD:PUBLISH
X-ORIGINAL-URL:https://www.tourlexington.us
X-WR-CALDESC:Events for Visit Lexington MA
REFRESH-INTERVAL;VALUE=DURATION:PT1H
X-Robots-Tag:noindex
X-PUBLISHED-TTL:PT1H
BEGIN:VTIMEZONE
TZID:America/New_York
BEGIN:DAYLIGHT
TZOFFSETFROM:-0500
TZOFFSETTO:-0400
TZNAME:EDT
DTSTART:20250309T070000
END:DAYLIGHT
BEGIN:STANDARD
TZOFFSETFROM:-0400
TZOFFSETTO:-0500
TZNAME:EST
DTSTART:20251102T060000
END:STANDARD
BEGIN:DAYLIGHT
TZOFFSETFROM:-0500
TZOFFSETTO:-0400
TZNAME:EDT
DTSTART:20260308T070000
END:DAYLIGHT
BEGIN:STANDARD
TZOFFSETFROM:-0400
TZOFFSETTO:-0500
TZNAME:EST
DTSTART:20261101T060000
END:STANDARD
BEGIN:DAYLIGHT
TZOFFSETFROM:-0500
TZOFFSETTO:-0400
TZNAME:EDT
DTSTART:20270314T070000
END:DAYLIGHT
BEGIN:STANDARD
TZOFFSETFROM:-0400
TZOFFSETTO:-0500
TZNAME:EST
DTSTART:20271107T060000
END:STANDARD
END:VTIMEZONE
BEGIN:VEVENT
DTSTART;VALUE=DATE:20260411
DTEND;VALUE=DATE:20260412
DTSTAMP:20260421T051456
CREATED:20260323T130052Z
LAST-MODIFIED:20260323T130052Z
UID:10000556-1775865600-1775951999@www.tourlexington.us
SUMMARY:For Love! For Liberty! — A New Musical Comes to Lexington\, MA!
DESCRIPTION:Step into the winter of 1775–76 and experience the extraordinary true story that helped save the American Revolution. For Love! For Liberty! is a vibrant new musical filled with original songs\, dance\, and unforgettable historical characters. \nFollow the journey of young Boston bookseller Henry (Harry) Knox\, who hauled sixty tons of cannon across frozen lakes and mountains to General Washington’s army—an audacious mission that changed the course of history. At the heart of the story is Lucy Knox\, who defies her loyalist family\, sacrifices her fortune\, and sustains Harry’s courage with letters\, love\, and cake. \nBridging past and present\, the story unfolds as middle-school history students work with teachers\, grandparents\, and the National Park Service to bring this remarkable moment in American history to life. \nScottish Rite Masonic Museum & Library\n33 Marrett Road\, Lexington\, MA \nSaturday\, April 11\n4:00 PM & 7:00 PM performances \nBring the whole family for an inspiring theatrical experience celebrating courage\, sacrifice\, and the power of love and liberty. \n✨ History. Music. Revolution. ✨
URL:https://www.tourlexington.us/event/for-love-for-liberty-a-new-musical-comes-to-lexington-ma/
LOCATION:MA
CATEGORIES:Lex250,Art/Cultural Event
ATTACH;FMTTYPE=image/jpeg:https://www.tourlexington.us/wp-content/uploads/2026/03/For-love-For-liberty-zeffy-photo.jpg
ORGANIZER;CN="Scottish Rite Masonic Museum & Library":MAILTO:info@srmml.org
END:VEVENT
BEGIN:VEVENT
DTSTART;TZID=America/New_York:20260411T093000
DTEND;TZID=America/New_York:20260411T160000
DTSTAMP:20260421T051456
CREATED:20260331T195327Z
LAST-MODIFIED:20260331T195327Z
UID:10000575-1775899800-1775923200@www.tourlexington.us
SUMMARY:Lexington Depot 1st Anniversary Open House - Free to Lexington Residents!
DESCRIPTION:It has been a year since the Lexington Depot was transformed from a stark white room to a vibrant exhibition space. Thanks to incredible community support\, the centuries of family treasures LHM collects and preserves now have a dedicated space that expands the range of stories we tell. Thousands of visitors from all over the world have spent the year learning about the many pieces of history that make Lexington so special. On Saturday\, April 11\, we want to celebrate this momentous anniversary with you with a free day for Lexington residents! Stop by any time during our new open hours\, 9:30 AM – 4:00 PM\, to explore the full arc of history\, from the artists of the 1820s to the soldiers of World War I and beyond\, hear a gallery talk\, or make a craft to take home.
URL:https://www.tourlexington.us/event/lexington-depot-1st-anniversary-open-house-free-to-lexington-residents/
LOCATION:The Depot\, 13 Depot Square\, Lexington\, MA\, 02420\, United States
CATEGORIES:Fair/Festival,Art/Cultural Event
ATTACH;FMTTYPE=image/jpeg:https://www.tourlexington.us/wp-content/uploads/2026/03/LHM-April-11-scaled.jpg
END:VEVENT
BEGIN:VEVENT
DTSTART;TZID=America/New_York:20260411T100000
DTEND;TZID=America/New_York:20260411T150000
DTSTAMP:20260421T051456
CREATED:20260316T160255Z
LAST-MODIFIED:20260316T160255Z
UID:10000550-1775901600-1775919600@www.tourlexington.us
SUMMARY:Open House and 50th Anniversary Celebration
DESCRIPTION:Please join us for an open house marking the end of the Scottish Rite Masonic Museum and Library’s 50th anniversary celebration! \nVisit exhibitions that examine the museum’s collection over the past 50 years and Lexington’s role in the American Revolution\, see a replica of the cannon Henry Knox brought from Ticonderoga to Dorchester on loan from the Grand Lodge of Massachusetts\, welcome ultra runner Patrick Atkinson as he arrives in Lexington at the conclusion of his 333-mile Revolutionary Run from Delaware to Massachusetts\, witness the burial of a time capsule for 2075\, and more. \nAdmission is free. Light lunch served. Registration is not required. Help us celebrate the end of our 50th anniversary year and look ahead to the next 50 years! \nProgram for the Day (join us at any time): \n10AM-3PM\, Open House \n11AM\, Time Capsule Ceremony Come see our 50th anniversary time capsule buried—not to be opened until 2075! \n12PM\, Celebrate the Revolutionary Run Welcome ultramarathoner Patrick Atkinson as he concludes his 333 mile run from Wilmington\, DE to Lexington\, MA \n2PM\, Noble Train of Artillery Encampment and Ceremonial Entrustment of the Hamilton 250 Cannon \nPlus\, “FOR LOVE! FOR LIBERTY!” A musical about Henry Knox. Performances at 4PM and 7PM. Tickets required.
URL:https://www.tourlexington.us/event/open-house-and-50th-anniversary-celebration/
LOCATION:Scottish Rite Masonic Museum & Library\, 33 Marrett Road\, LEXINGTON\, MA\, 02420\, United States
CATEGORIES:Lex250,Cultural District,Art/Cultural Event,Food
ATTACH;FMTTYPE=image/jpeg:https://www.tourlexington.us/wp-content/uploads/2026/03/Celebrate50_Stickers_Dark.jpg
ORGANIZER;CN="Scottish Rite Masonic Museum & Library":MAILTO:info@srmml.org
END:VEVENT
BEGIN:VEVENT
DTSTART;TZID=America/New_York:20260411T110000
DTEND;TZID=America/New_York:20260412T170000
DTSTAMP:20260421T051456
CREATED:20260302T142846Z
LAST-MODIFIED:20260302T142846Z
UID:10000534-1775905200-1776013200@www.tourlexington.us
SUMMARY:Lexington Open Studios
DESCRIPTION:The historic town of Lexington Massachusetts has a thriving\, vibrant arts community. Lexington Open Studios provides an annual opportunity to foster relationships & connections between artists and the community. This event provides opportunities to view art made within the community; to interact with local artists; and to have access to artists’ working spaces. Our goal is to broaden the public’s exposure to\, and appreciation of\, finished works of art as well as the art-making process. This exposure both educates the community and raises awareness of the diverse artistic experience available in Lexington. \nSO Grab a map in Lexington Times Magazine\, or online at www.lexingtonopenstudios.com
URL:https://www.tourlexington.us/event/lexington-open-studios-3/
LOCATION:Lexington\, Lexington\, MA\, 02420\, United States
CATEGORIES:Art/Cultural Event
ATTACH;FMTTYPE=image/png:https://www.tourlexington.us/wp-content/uploads/2026/02/2026-LOS-Promo-w-QR.png
END:VEVENT
END:VCALENDAR