BEGIN:VCALENDAR
VERSION:2.0
PRODID:-//Visit Lexington MA - ECPv6.15.13//NONSGML v1.0//EN
CALSCALE:GREGORIAN
METHOD:PUBLISH
X-WR-CALNAME:Visit Lexington MA
X-ORIGINAL-URL:https://www.tourlexington.us
X-WR-CALDESC:Events for Visit Lexington MA
REFRESH-INTERVAL;VALUE=DURATION:PT1H
X-Robots-Tag:noindex
X-PUBLISHED-TTL:PT1H
BEGIN:VTIMEZONE
TZID:America/New_York
BEGIN:DAYLIGHT
TZOFFSETFROM:-0500
TZOFFSETTO:-0400
TZNAME:EDT
DTSTART:20250309T070000
END:DAYLIGHT
BEGIN:STANDARD
TZOFFSETFROM:-0400
TZOFFSETTO:-0500
TZNAME:EST
DTSTART:20251102T060000
END:STANDARD
BEGIN:DAYLIGHT
TZOFFSETFROM:-0500
TZOFFSETTO:-0400
TZNAME:EDT
DTSTART:20260308T070000
END:DAYLIGHT
BEGIN:STANDARD
TZOFFSETFROM:-0400
TZOFFSETTO:-0500
TZNAME:EST
DTSTART:20261101T060000
END:STANDARD
BEGIN:DAYLIGHT
TZOFFSETFROM:-0500
TZOFFSETTO:-0400
TZNAME:EDT
DTSTART:20270314T070000
END:DAYLIGHT
BEGIN:STANDARD
TZOFFSETFROM:-0400
TZOFFSETTO:-0500
TZNAME:EST
DTSTART:20271107T060000
END:STANDARD
END:VTIMEZONE
BEGIN:VEVENT
DTSTART;TZID=America/New_York:20260501T183000
DTEND;TZID=America/New_York:20260501T203000
DTSTAMP:20260421T095247
CREATED:20260413T184335Z
LAST-MODIFIED:20260413T184335Z
UID:10000586-1777660200-1777667400@www.tourlexington.us
SUMMARY:William Drummond Junior Fife & Drum Corps of Lexington Tattoo
DESCRIPTION:Tattoo: Friday\, May 1\, 6:30-8:30 pm on the Lexington Battle Green\n(1625 Massachusetts Ave.). Free outdoor evening performance of fife and drum music at the\nscene of the first skirmish in the Revolutionary War. Hosted by the William Diamond\nJunior Fife & Drum Corps of Lexington and featuring four other corps.
URL:https://www.tourlexington.us/event/william-drummond-junior-fife-drum-corps-of-lexington-tattoo/
LOCATION:Lexington Battle Green\, 1625 Massachusetts Ave.\, Lexington\, MA\, 02420\, United States
CATEGORIES:Art/Cultural Event
ORGANIZER;CN="William Diamond Junior Fife &amp%3B Drum Corps":MAILTO:wdj@ezzellwebb.com
END:VEVENT
BEGIN:VEVENT
DTSTART;TZID=America/New_York:20260502T193000
DTEND;TZID=America/New_York:20260502T213000
DTSTAMP:20260421T095247
CREATED:20251222T194053Z
LAST-MODIFIED:20251222T194053Z
UID:10000464-1777750200-1777757400@www.tourlexington.us
SUMMARY:Pamela Means with Kim Moberg at Harmony on the Green Coffeehouse Concert
DESCRIPTION:Singer-songwriter\, jazz musician\, activist and educator.
URL:https://www.tourlexington.us/event/pamela-means-with-kim-moberg-at-harmony-on-the-green-coffeehouse-concert/
LOCATION:Hancock Church\, 1912 Massachusetts Ave\, Lexington\, Ma\, 02420
CATEGORIES:Art/Cultural Event
ATTACH;FMTTYPE=image/jpeg:https://www.tourlexington.us/wp-content/uploads/2025/12/means.jpg
END:VEVENT
BEGIN:VEVENT
DTSTART;TZID=America/New_York:20260523T100000
DTEND;TZID=America/New_York:20260523T150000
DTSTAMP:20260421T095247
CREATED:20260223T202950Z
LAST-MODIFIED:20260223T202950Z
UID:10000519-1779530400-1779548400@www.tourlexington.us
SUMMARY:Discovery Day 2026
DESCRIPTION:Discovery Day\, Lexington’s “Town Day” is where people come to “Discover” what Lexington has to offer.\nThe Lexington Retailers Association close Mass Ave in the Center and host this family-friendly street fair. Businesses will be selling goods\, restaurants selling their food\, and civic and municipal organizations letting everyone know just what they do. Also featured will be a beer garden and live entertainment.\nVisit www.DiscoveryDayInLexington.com for more information
URL:https://www.tourlexington.us/event/discovery-day-2026/
LOCATION:Emery Park\, Depot Square\, Lexington\, MA\, 02421
CATEGORIES:Cultural District,Fair/Festival,Art/Cultural Event,Food
ATTACH;FMTTYPE=image/jpeg:https://www.tourlexington.us/wp-content/uploads/2026/02/637119554_933001522412611_8979120289286415196_n-scaled.jpg
END:VEVENT
BEGIN:VEVENT
DTSTART;TZID=America/New_York:20260613T080000
DTEND;TZID=America/New_York:20260613T170000
DTSTAMP:20260421T095247
CREATED:20260416T131118Z
LAST-MODIFIED:20260416T131118Z
UID:10000590-1781337600-1781370000@www.tourlexington.us
SUMMARY:Inspirational Gardens of Lexington
DESCRIPTION:The Lexington Field & Garden Club presents its garden tour for 2026 on June 13th.
URL:https://www.tourlexington.us/event/inspirational-gardens-of-lexington/2026-06-13/1/
LOCATION:Lexington Field & Garden CLub\, P.O. Box 133\, Lexington\, MA\, 02420\, United States
CATEGORIES:Art/Cultural Event
ATTACH;FMTTYPE=image/jpeg:https://www.tourlexington.us/wp-content/uploads/2026/04/Garden-Tour-2026.jpg
END:VEVENT
BEGIN:VEVENT
DTSTART;TZID=America/New_York:20260613T093000
DTEND;TZID=America/New_York:20260613T153000
DTSTAMP:20260421T095247
CREATED:20260416T131118Z
LAST-MODIFIED:20260416T131118Z
UID:10000591-1781343000-1781364600@www.tourlexington.us
SUMMARY:Inspirational Gardens of Lexington
DESCRIPTION:The Lexington Field & Garden Club presents its garden tour for 2026 on June 13th.
URL:https://www.tourlexington.us/event/inspirational-gardens-of-lexington/2026-06-13/2/
LOCATION:Lexington Field & Garden CLub\, P.O. Box 133\, Lexington\, MA\, 02420\, United States
CATEGORIES:Art/Cultural Event
ATTACH;FMTTYPE=image/jpeg:https://www.tourlexington.us/wp-content/uploads/2026/04/Garden-Tour-2026.jpg
END:VEVENT
END:VCALENDAR