BEGIN:VCALENDAR
VERSION:2.0
PRODID:-//Visit Lexington MA - ECPv6.15.13//NONSGML v1.0//EN
CALSCALE:GREGORIAN
METHOD:PUBLISH
X-ORIGINAL-URL:https://www.tourlexington.us
X-WR-CALDESC:Events for Visit Lexington MA
REFRESH-INTERVAL;VALUE=DURATION:PT1H
X-Robots-Tag:noindex
X-PUBLISHED-TTL:PT1H
BEGIN:VTIMEZONE
TZID:America/New_York
BEGIN:DAYLIGHT
TZOFFSETFROM:-0500
TZOFFSETTO:-0400
TZNAME:EDT
DTSTART:20240310T070000
END:DAYLIGHT
BEGIN:STANDARD
TZOFFSETFROM:-0400
TZOFFSETTO:-0500
TZNAME:EST
DTSTART:20241103T060000
END:STANDARD
BEGIN:DAYLIGHT
TZOFFSETFROM:-0500
TZOFFSETTO:-0400
TZNAME:EDT
DTSTART:20250309T070000
END:DAYLIGHT
BEGIN:STANDARD
TZOFFSETFROM:-0400
TZOFFSETTO:-0500
TZNAME:EST
DTSTART:20251102T060000
END:STANDARD
BEGIN:DAYLIGHT
TZOFFSETFROM:-0500
TZOFFSETTO:-0400
TZNAME:EDT
DTSTART:20260308T070000
END:DAYLIGHT
BEGIN:STANDARD
TZOFFSETFROM:-0400
TZOFFSETTO:-0500
TZNAME:EST
DTSTART:20261101T060000
END:STANDARD
END:VTIMEZONE
BEGIN:VEVENT
DTSTART;TZID=America/New_York:20250801T183000
DTEND;TZID=America/New_York:20250801T203000
DTSTAMP:20260422T043947
CREATED:20250606T135928Z
LAST-MODIFIED:20250606T140613Z
UID:10000344-1754073000-1754080200@www.tourlexington.us
SUMMARY:Lexington Chamber of Commerce Concert Series - Honey Steelers
DESCRIPTION:The Honey Steelers serve up a rich blend of Americana\, turning every stage into a cozy\, toe-tapping countryside pub. With a lineup of seasoned multi-instrumentalists\, this Boston-based band delivers a soulful mix of original tunes and reimagined covers — from foot-stomping barn burners to heartfelt lullabies. Their signature sound fuses pedal steel\, mandolin\, keys\, guitar\, and tight vocal harmonies\, creating an unforgettable live experience that’s as warm as it is wild. \nDon’t miss The Honey Steelers — where vintage charm meets fresh energy for a night of music that’ll stir your heart and move your feet. \n\nLearn more about the Honey Steelers here\n\n\nThe Chamber’s Summer Concert Series is a beloved community tradition\, offering free\, family-friendly concerts every Friday evening from July 11 through August 22\, from 6:30 PM to 8:30 PM. \nFor more than 30 years\, the series has been drawing audiences from Lexington and neighboring towns to enjoy a variety of musical styles in a relaxed\, picnic-in-the-park setting. It’s a wonderful way to celebrate the spirit of community and connect with neighbors old and new. \nBring your lawn chairs\, blankets\, and a refreshment or two—and settle in for an evening of great music and summer fun! \n**Concerts will be canceled in the event of inclement weather\, and there are no rain dates scheduled.**
URL:https://www.tourlexington.us/event/lexington-chamber-of-commerce-concert-series-honey-steelers/
LOCATION:Emery Park\, Depot Square\, Lexington\, MA\, 02421
CATEGORIES:Cultural District,Fair/Festival,Art/Cultural Event
ATTACH;FMTTYPE=image/png:https://www.tourlexington.us/wp-content/uploads/2025/06/2025-Summer-Concert-Series-Logo.png
ORGANIZER;CN="Chamber of Commerce":MAILTO:director@lexingtonchamber.org
END:VEVENT
BEGIN:VEVENT
DTSTART;TZID=America/New_York:20250808T183000
DTEND;TZID=America/New_York:20250808T203000
DTSTAMP:20260422T043947
CREATED:20250606T141248Z
LAST-MODIFIED:20250606T141248Z
UID:10000347-1754677800-1754685000@www.tourlexington.us
SUMMARY:Lexington Chamber of Commerce Summer Concert Series: Classic Groove
DESCRIPTION:Get ready to groove this summer with Classic Groove featuring Special Guest Concetta! \nKnown for their incredible versatility and electrifying performances\, Classic Groove brings a high-energy\, crowd-pleasing mix of music that’s perfect for any summer celebration. From chart-topping R&B and Top 40 hits to smooth jazz\, Latin rhythms\, country favorites\, and even show tunes\, this dynamic group covers it all — and does it with style. \nFeaturing powerful male and female vocals\, sizzling saxophone\, bass\, guitars\, drums\, and keys\, Classic Groove delivers a rich\, full sound that keeps audiences dancing all night long. Whether it’s Motown magic\, bluesy duets\, or global grooves\, they’ve got something for every age and musical taste. \nDon’t miss your chance to experience the band that brings the party wherever they go — Classic Groove is your ticket to an unforgettable summer night! \n\nLearn more about Classic Groove here. \nThe Chamber’s Summer Concert Series is a beloved community tradition\, offering free\, family-friendly concerts every Friday evening from July 11 through August 22\, from 6:30 PM to 8:30 PM. \nFor more than 30 years\, the series have been drawing audiences from Lexington and neighboring towns to enjoy a variety of musical styles in a relaxed\, picnic-in-the-park setting. It’s a wonderful way to celebrate the spirit of community and connect with neighbors old and new. \nBring your lawn chairs\, blankets\, and a refreshment or two—and settle in for an evening of great music and summer fun! \n**Concerts will be canceled due to inclement weather\, and there are no rain dates scheduled.**
URL:https://www.tourlexington.us/event/lexington-chamber-of-commerce-summer-concert-series-classic-groove/
LOCATION:Emery Park\, Depot Square\, Lexington\, MA\, 02421
CATEGORIES:Cultural District,Fair/Festival,Art/Cultural Event
ATTACH;FMTTYPE=image/png:https://www.tourlexington.us/wp-content/uploads/2025/06/2025-Summer-Concert-Series-Logo.png
ORGANIZER;CN="Chamber of Commerce":MAILTO:director@lexingtonchamber.org
END:VEVENT
BEGIN:VEVENT
DTSTART;TZID=America/New_York:20250815T183000
DTEND;TZID=America/New_York:20250815T203000
DTSTAMP:20260422T043947
CREATED:20250606T140129Z
LAST-MODIFIED:20250606T140129Z
UID:10000345-1755282600-1755289800@www.tourlexington.us
SUMMARY:Lexington Chamber of Commerce Summer Concert Series: Kadak Chai
DESCRIPTION:Spice up your summer with the bold sound of Kadak Chai! \nBoston’s own Bollywood rock band\, Kadak Chai brews up a fiery mix of Hindi\, Tamil\, Punjabi\, Urdu\, and English hits — from the golden oldies to today’s chart-toppers — all with a high-voltage rock twist. With searing guitars\, driving rhythms\, and powerhouse vocals\, this 7-piece group delivers a sound that’s unexpected\, unforgettable\, and guaranteed to get the crowd dancing. \nLike the strong\, spiced tea they’re named after\, Kadak Chai’s music packs a punch — full of flavor\, fun\, and unstoppable energy. Get ready for a night of non-stop dhoom and masti! \nLearn more about Kadak Chai here. \nThe Chamber’s Summer Concert Series is a beloved community tradition\, offering free\, family-friendly concerts every Friday evening from July 11 through August 22\, from 6:30 PM to 8:30 PM. \nFor more than 30 years\, the series has been drawing audiences from Lexington and neighboring towns to enjoy a variety of musical styles in a relaxed\, picnic-in-the-park setting. It’s a wonderful way to celebrate the spirit of community and connect with neighbors old and new. \nBring your lawn chairs\, blankets\, and a refreshment or two—and settle in for an evening of great music and summer fun! \n**Concerts will be canceled in the event of inclement weather\, and there are no rain dates scheduled.**
URL:https://www.tourlexington.us/event/lexington-chamber-of-commerce-summer-concert-series-kadak-chai/
LOCATION:Emery Park\, Depot Square\, Lexington\, MA\, 02421
CATEGORIES:Cultural District,Fair/Festival,Art/Cultural Event
ATTACH;FMTTYPE=image/png:https://www.tourlexington.us/wp-content/uploads/2025/06/2025-Summer-Concert-Series-Logo.png
ORGANIZER;CN="Chamber of Commerce":MAILTO:director@lexingtonchamber.org
END:VEVENT
BEGIN:VEVENT
DTSTART;VALUE=DATE:20250817
DTEND;VALUE=DATE:20250818
DTSTAMP:20260422T043947
CREATED:20250808T132729Z
LAST-MODIFIED:20250808T132729Z
UID:10000378-1755388800-1755475199@www.tourlexington.us
SUMMARY:Tour de Cure - Hosted by American Diabetes Association
DESCRIPTION:Join the American Diabetes Association® along with your friends\, family\, and colleagues as we ride in support of people living with diabetes. \nTour de Cure® is the moment for corporations\, organizations\, and individuals to come together and show our community how much we care—and how much we’ll do to end diabetes for good. By joining the fundraising event\, you’ll help us increase awareness\, provide vital programs\, fund lifesaving research\, and work toward a cure.
URL:https://www.tourlexington.us/event/tour-de-cure-hosted-by-american-diabetes-association/
LOCATION:MA
CATEGORIES:Cultural District
ATTACH;FMTTYPE=image/jpeg:https://www.tourlexington.us/wp-content/uploads/2025/07/Volunteers-needed-TDC.jpg
ORGANIZER;CN="American Diabetes Association":MAILTO:twilson@diabetes.org
END:VEVENT
BEGIN:VEVENT
DTSTART;TZID=America/New_York:20250822T183000
DTEND;TZID=America/New_York:20250822T203000
DTSTAMP:20260422T043947
CREATED:20250606T140516Z
LAST-MODIFIED:20250606T140525Z
UID:10000346-1755887400-1755894600@www.tourlexington.us
SUMMARY:Lexington Chamber of Commerce Summer Concert Series: Gypsy Six
DESCRIPTION:Crank it up with Gypsy Six — New England’s powerhouse of Southern Rock and Blues! \nFrom the soul of the South to the grit of classic rock\, Gypsy Six brings raw energy\, killer guitar riffs\, and a whole lot of heart to every stage they hit. Covering legends like the Allman Brothers\, Lynyrd Skynyrd\, Grateful Dead\, Chris Stapleton\, Whiskey Myers\, and more\, this band delivers a smokin’ setlist packed with bluesy grooves\, outlaw country edge\, and rock ‘n’ roll fire. \nIf you’re ready for a night of high-octane\, down-home sound that’ll have you dancing\, singing\, and shouting for more — Gypsy Six is your ticket to ride. \nThe Chamber’s Summer Concert Series is a beloved community tradition\, offering free\, family-friendly concerts every Friday evening from July 11 through August 22\, from 6:30 PM to 8:30 PM. \nFor more than 30 years\, the series has been drawing audiences from Lexington and neighboring towns to enjoy a variety of musical styles in a relaxed\, picnic-in-the-park setting. It’s a wonderful way to celebrate the spirit of community and connect with neighbors old and new. \nBring your lawn chairs\, blankets\, and a refreshment or two—and settle in for an evening of great music and summer fun! \n**Concerts will be canceled in the event of inclement weather\, and there are no rain dates scheduled.*
URL:https://www.tourlexington.us/event/lexington-chamber-of-commerce-summer-concert-series-gypsy-six/
LOCATION:Emery Park\, Depot Square\, Lexington\, MA\, 02421
CATEGORIES:Cultural District,Fair/Festival,Art/Cultural Event
ATTACH;FMTTYPE=image/png:https://www.tourlexington.us/wp-content/uploads/2025/06/2025-Summer-Concert-Series-Logo.png
ORGANIZER;CN="Chamber of Commerce":MAILTO:director@lexingtonchamber.org
END:VEVENT
BEGIN:VEVENT
DTSTART;TZID=America/New_York:20250823T100000
DTEND;TZID=America/New_York:20250823T150000
DTSTAMP:20260422T043947
CREATED:20250804T202926Z
LAST-MODIFIED:20250804T202926Z
UID:10000381-1755943200-1755961200@www.tourlexington.us
SUMMARY:Spinning HERstory: Celebrating 250 years of bold women & Fiber Arts.
DESCRIPTION:LexSeeHer spotlights revolutionary Lexington women who participated in Anna Harrington’s 1769 Spinning Protest. All ages & free activities include textile arts (knitting\, crochet\, ribbon work\, friendship bracelets\, spinning\, weaving\, mending\, and more). Live music\, community SingAlong\, and formal program at 1:00 and 1:30 to re-enact Anna’s protest and honor the 2025 Women’s Visibility Banner Honorees. Something for everyone to celebrate the 250th!
URL:https://www.tourlexington.us/event/spinning-herstory-celebrating-250-years-of-bold-women-fiber-arts/
LOCATION:Visitors Center\, 1875 Mass Ave\, Lexington\, MA\, 02420\, United States
CATEGORIES:Lex250,Cultural District,Art/Cultural Event
ATTACH;FMTTYPE=image/png:https://www.tourlexington.us/wp-content/uploads/2025/08/2025-Spinning-HERstory-image.png
ORGANIZER;CN="LexSeeHer":MAILTO:lexmonument@gmail.com
END:VEVENT
END:VCALENDAR