BEGIN:VCALENDAR
VERSION:2.0
PRODID:-//Visit Lexington MA - ECPv6.15.13//NONSGML v1.0//EN
CALSCALE:GREGORIAN
METHOD:PUBLISH
X-WR-CALNAME:Visit Lexington MA
X-ORIGINAL-URL:https://www.tourlexington.us
X-WR-CALDESC:Events for Visit Lexington MA
REFRESH-INTERVAL;VALUE=DURATION:PT1H
X-Robots-Tag:noindex
X-PUBLISHED-TTL:PT1H
BEGIN:VTIMEZONE
TZID:America/New_York
BEGIN:DAYLIGHT
TZOFFSETFROM:-0500
TZOFFSETTO:-0400
TZNAME:EDT
DTSTART:20230312T070000
END:DAYLIGHT
BEGIN:STANDARD
TZOFFSETFROM:-0400
TZOFFSETTO:-0500
TZNAME:EST
DTSTART:20231105T060000
END:STANDARD
BEGIN:DAYLIGHT
TZOFFSETFROM:-0500
TZOFFSETTO:-0400
TZNAME:EDT
DTSTART:20240310T070000
END:DAYLIGHT
BEGIN:STANDARD
TZOFFSETFROM:-0400
TZOFFSETTO:-0500
TZNAME:EST
DTSTART:20241103T060000
END:STANDARD
BEGIN:DAYLIGHT
TZOFFSETFROM:-0500
TZOFFSETTO:-0400
TZNAME:EDT
DTSTART:20250309T070000
END:DAYLIGHT
BEGIN:STANDARD
TZOFFSETFROM:-0400
TZOFFSETTO:-0500
TZNAME:EST
DTSTART:20251102T060000
END:STANDARD
END:VTIMEZONE
BEGIN:VEVENT
DTSTART;TZID=America/New_York:20240503T190000
DTEND;TZID=America/New_York:20240503T203000
DTSTAMP:20260421T093913
CREATED:20240507T212338Z
LAST-MODIFIED:20240507T212338Z
UID:10000054-1714762800-1714768200@www.tourlexington.us
SUMMARY:Lexington Fife & Drum Weekend
DESCRIPTION:Attend the 22nd Annual Lexington Tattoo and Muster \nTattoo: Friday\, May 3\, 7:00 pm on the Lexington Battle Green (1625 Massachusetts Ave.).\nFree outdoor evening performance of fife and drum music at the scene of the first skirmish in the Revolutionary War. Hosted by the William Diamond Junior Fife & Drum Corps of Lexington and featuring corps including the Kentish Guards\, one of the oldest fife and drum corps in the US\, and the Middlesex County Volunteers Fife & Drum Corps.\nAll-day Muster the following day at Hastings Park.
URL:https://www.tourlexington.us/event/lexington-fife-drum-weekend/
LOCATION:Lexington Battle Green\, 1625 Massachusetts Ave.\, Lexington\, MA\, 02420\, United States
CATEGORIES:Cultural District
ATTACH;FMTTYPE=image/jpeg:https://www.tourlexington.us/wp-content/uploads/2024/02/BedfordPoleCapping-03-DSC_8680.jpg
ORGANIZER;CN="Wiliam Diamond Junior Fife &amp%3B Drum Corps":MAILTO:wdj@ezzellwebb.com
END:VEVENT
END:VCALENDAR