BEGIN:VCALENDAR
VERSION:2.0
PRODID:-//Visit Lexington MA - ECPv6.15.13//NONSGML v1.0//EN
CALSCALE:GREGORIAN
METHOD:PUBLISH
X-ORIGINAL-URL:https://www.tourlexington.us
X-WR-CALDESC:Events for Visit Lexington MA
REFRESH-INTERVAL;VALUE=DURATION:PT1H
X-Robots-Tag:noindex
X-PUBLISHED-TTL:PT1H
BEGIN:VTIMEZONE
TZID:America/New_York
BEGIN:DAYLIGHT
TZOFFSETFROM:-0500
TZOFFSETTO:-0400
TZNAME:EDT
DTSTART:20230312T070000
END:DAYLIGHT
BEGIN:STANDARD
TZOFFSETFROM:-0400
TZOFFSETTO:-0500
TZNAME:EST
DTSTART:20231105T060000
END:STANDARD
BEGIN:DAYLIGHT
TZOFFSETFROM:-0500
TZOFFSETTO:-0400
TZNAME:EDT
DTSTART:20240310T070000
END:DAYLIGHT
BEGIN:STANDARD
TZOFFSETFROM:-0400
TZOFFSETTO:-0500
TZNAME:EST
DTSTART:20241103T060000
END:STANDARD
BEGIN:DAYLIGHT
TZOFFSETFROM:-0500
TZOFFSETTO:-0400
TZNAME:EDT
DTSTART:20250309T070000
END:DAYLIGHT
BEGIN:STANDARD
TZOFFSETFROM:-0400
TZOFFSETTO:-0500
TZNAME:EST
DTSTART:20251102T060000
END:STANDARD
END:VTIMEZONE
BEGIN:VEVENT
DTSTART;TZID=America/New_York:20240519T120000
DTEND;TZID=America/New_York:20240519T160000
DTSTAMP:20260421T094306
CREATED:20240515T134351Z
LAST-MODIFIED:20240515T134351Z
UID:10000097-1716120000-1716134400@www.tourlexington.us
SUMMARY:The Art of the Flower
DESCRIPTION:The Munroe Tavern museum features three beautiful gardens of 18th \ncentury flowers maintained by the Lexington Field and Garden Club. \nStop in to see them in full bloom\, with activities for the whole family! \n• Chats with our gardeners \n• Flower-themed art making \n• Flower history \n• 18th century music and dance \nOutdoor events FREE! Museum admission by donation
URL:https://www.tourlexington.us/event/the-art-of-the-flower/
LOCATION:Munroe Tavern\, 1332 Massachusetts Ave\, Lexington\, MA\, 02420\, United States
CATEGORIES:Cultural District
ATTACH;FMTTYPE=image/jpeg:https://www.tourlexington.us/wp-content/uploads/2024/05/flower.jpg
END:VEVENT
END:VCALENDAR