BEGIN:VCALENDAR
VERSION:2.0
PRODID:-//Visit Lexington MA - ECPv6.15.13//NONSGML v1.0//EN
CALSCALE:GREGORIAN
METHOD:PUBLISH
X-ORIGINAL-URL:https://www.tourlexington.us
X-WR-CALDESC:Events for Visit Lexington MA
REFRESH-INTERVAL;VALUE=DURATION:PT1H
X-Robots-Tag:noindex
X-PUBLISHED-TTL:PT1H
BEGIN:VTIMEZONE
TZID:America/New_York
BEGIN:DAYLIGHT
TZOFFSETFROM:-0500
TZOFFSETTO:-0400
TZNAME:EDT
DTSTART:20230312T070000
END:DAYLIGHT
BEGIN:STANDARD
TZOFFSETFROM:-0400
TZOFFSETTO:-0500
TZNAME:EST
DTSTART:20231105T060000
END:STANDARD
BEGIN:DAYLIGHT
TZOFFSETFROM:-0500
TZOFFSETTO:-0400
TZNAME:EDT
DTSTART:20240310T070000
END:DAYLIGHT
BEGIN:STANDARD
TZOFFSETFROM:-0400
TZOFFSETTO:-0500
TZNAME:EST
DTSTART:20241103T060000
END:STANDARD
BEGIN:DAYLIGHT
TZOFFSETFROM:-0500
TZOFFSETTO:-0400
TZNAME:EDT
DTSTART:20250309T070000
END:DAYLIGHT
BEGIN:STANDARD
TZOFFSETFROM:-0400
TZOFFSETTO:-0500
TZNAME:EST
DTSTART:20251102T060000
END:STANDARD
END:VTIMEZONE
BEGIN:VEVENT
DTSTART;TZID=America/New_York:20240719T090000
DTEND;TZID=America/New_York:20240719T150000
DTSTAMP:20260421T064022
CREATED:20240513T161741Z
LAST-MODIFIED:20240513T161741Z
UID:10000102-1721379600-1721401200@www.tourlexington.us
SUMMARY:Run a Colonial Farm! A History Mini Camp for Grades 6-8
DESCRIPTION:Odds are\, if you lived in Massachusetts in the 18th century\, you lived on a farm. What skills would you need to live off the land\, and how did you unwind after all this work?In this one-day camp\, become a historian and explore a historic house and artifacts that tell us about our past. We’ll get hands-on as we learn about the chemistry of making ink\, the science of preserving food and the dances you’ll need to master for the harvest frolic. This program is recommended for rising 6th – 8th graders. \n$45 members\, $60 nonmembers. \nAdvanced registration required.\nAs children will be dropped off for this program\, please provide emergency contact information at checkout.
URL:https://www.tourlexington.us/event/run-a-colonial-farm-a-history-mini-camp-for-grades-6-8/
LOCATION:Hancock Clarke House\, 36 Hancock Street\, Lexington\, Ma\, 02420
CATEGORIES:Cultural District
ATTACH;FMTTYPE=image/jpeg:https://www.tourlexington.us/wp-content/uploads/2024/05/Farms-Trades.jpg
END:VEVENT
BEGIN:VEVENT
DTSTART;TZID=America/New_York:20240719T183000
DTEND;TZID=America/New_York:20240719T200000
DTSTAMP:20260421T064022
CREATED:20240125T191232Z
LAST-MODIFIED:20240715T131336Z
UID:10000035-1721413800-1721419200@www.tourlexington.us
SUMMARY:Chamber of Commerce Summer Concert
DESCRIPTION:Bring your lawn chair and join Ben Rudnick and Friends. \nWith countless kudos to their credit\, including SEVEN Parents’ Choice Awards\, the band considers its main focus to be providing a common ground where all family members can enjoy a shared musical experience. \nDrawing on original songs and traditional material\, the band seamlessly integrates classic Americana with their unique sound. It’s kids\, it’s families\, it’s music… live music. \nThe band is in their 22nd year of making music for families. That includes twelve recordings\, tours up and down the East Coast\, a week of shows in Colorado\, and a play about a certain frog\, named Sam\, and his alien buddy\, Trip. The band is an institution in the Boston area and are happiest when playing outside on a perfect New England summer evening. \nThe tightly-honed quartet ties its identity to its New England homeland. Their sound is pure Americana. There’s a summer feel with a strong sense of celebration and happiness.
URL:https://www.tourlexington.us/event/chamber-of-commerce-summer-concert-4/
LOCATION:Emery Park\, Depot Square\, Lexington\, MA\, 02421
CATEGORIES:Cultural District
ATTACH;FMTTYPE=image/jpeg:https://www.tourlexington.us/wp-content/uploads/2024/01/concert-people-danceing-1.jpg
ORGANIZER;CN="Chamber of Commerce":MAILTO:director@lexingtonchamber.org
END:VEVENT
END:VCALENDAR