BEGIN:VCALENDAR
VERSION:2.0
PRODID:-//Visit Lexington MA - ECPv6.15.13//NONSGML v1.0//EN
CALSCALE:GREGORIAN
METHOD:PUBLISH
X-WR-CALNAME:Visit Lexington MA
X-ORIGINAL-URL:https://www.tourlexington.us
X-WR-CALDESC:Events for Visit Lexington MA
REFRESH-INTERVAL;VALUE=DURATION:PT1H
X-Robots-Tag:noindex
X-PUBLISHED-TTL:PT1H
BEGIN:VTIMEZONE
TZID:America/New_York
BEGIN:DAYLIGHT
TZOFFSETFROM:-0500
TZOFFSETTO:-0400
TZNAME:EDT
DTSTART:20230312T070000
END:DAYLIGHT
BEGIN:STANDARD
TZOFFSETFROM:-0400
TZOFFSETTO:-0500
TZNAME:EST
DTSTART:20231105T060000
END:STANDARD
BEGIN:DAYLIGHT
TZOFFSETFROM:-0500
TZOFFSETTO:-0400
TZNAME:EDT
DTSTART:20240310T070000
END:DAYLIGHT
BEGIN:STANDARD
TZOFFSETFROM:-0400
TZOFFSETTO:-0500
TZNAME:EST
DTSTART:20241103T060000
END:STANDARD
BEGIN:DAYLIGHT
TZOFFSETFROM:-0500
TZOFFSETTO:-0400
TZNAME:EDT
DTSTART:20250309T070000
END:DAYLIGHT
BEGIN:STANDARD
TZOFFSETFROM:-0400
TZOFFSETTO:-0500
TZNAME:EST
DTSTART:20251102T060000
END:STANDARD
END:VTIMEZONE
BEGIN:VEVENT
DTSTART;TZID=America/New_York:20240424T190000
DTEND;TZID=America/New_York:20240424T200000
DTSTAMP:20260419T223305
CREATED:20240422T142723Z
LAST-MODIFIED:20240426T171405Z
UID:10000083-1713985200-1713988800@www.tourlexington.us
SUMMARY:Roads to Revolution: the Different Paths of Lexington and Concord
DESCRIPTION:This session will examine the similarities and differences between the two towns socially\, economically and politically\, and discuss how each came to play its signal part on April 19\, 1775. We’ll also look at the long dispute between the two towns\, starting in 1825\, with who deserved credit for firing the first shots and starting the Revolutionary War – and why that once mattered.
URL:https://www.tourlexington.us/event/roads-to-revolution-the-different-paths-of-lexington-and-concord/
LOCATION:Cary Memorrial Library\, 1875 Massachusetts Avenue\, Lexington\, MA\, 02420\, United States
CATEGORIES:Lex250
ATTACH;FMTTYPE=image/jpeg:https://www.tourlexington.us/wp-content/uploads/2024/03/017_PatriotsDay_KyleKlein_KKP10536175-scaled.jpg
END:VEVENT
END:VCALENDAR