BEGIN:VCALENDAR
VERSION:2.0
PRODID:-//Visit Lexington MA - ECPv6.15.13//NONSGML v1.0//EN
CALSCALE:GREGORIAN
METHOD:PUBLISH
X-WR-CALNAME:Visit Lexington MA
X-ORIGINAL-URL:https://www.tourlexington.us
X-WR-CALDESC:Events for Visit Lexington MA
REFRESH-INTERVAL;VALUE=DURATION:PT1H
X-Robots-Tag:noindex
X-PUBLISHED-TTL:PT1H
BEGIN:VTIMEZONE
TZID:America/New_York
BEGIN:DAYLIGHT
TZOFFSETFROM:-0500
TZOFFSETTO:-0400
TZNAME:EDT
DTSTART:20230312T070000
END:DAYLIGHT
BEGIN:STANDARD
TZOFFSETFROM:-0400
TZOFFSETTO:-0500
TZNAME:EST
DTSTART:20231105T060000
END:STANDARD
BEGIN:DAYLIGHT
TZOFFSETFROM:-0500
TZOFFSETTO:-0400
TZNAME:EDT
DTSTART:20240310T070000
END:DAYLIGHT
BEGIN:STANDARD
TZOFFSETFROM:-0400
TZOFFSETTO:-0500
TZNAME:EST
DTSTART:20241103T060000
END:STANDARD
BEGIN:DAYLIGHT
TZOFFSETFROM:-0500
TZOFFSETTO:-0400
TZNAME:EDT
DTSTART:20250309T070000
END:DAYLIGHT
BEGIN:STANDARD
TZOFFSETFROM:-0400
TZOFFSETTO:-0500
TZNAME:EST
DTSTART:20251102T060000
END:STANDARD
END:VTIMEZONE
BEGIN:VEVENT
DTSTART;TZID=America/New_York:20240921T110000
DTEND;TZID=America/New_York:20240921T140000
DTSTAMP:20260419T135430
CREATED:20240131T131829Z
LAST-MODIFIED:20240904T144304Z
UID:10000045-1726916400-1726927200@www.tourlexington.us
SUMMARY:Parkers Prelude Kick-Off Festival (Captain John Parker's 295th birthday party)
DESCRIPTION:Join Lexington 250 for a free community event to celebrate Captain John Parker’s 295th Birthday with a festive celebration on the Lexington Battle Green. Bring along a chair or blanket. There will be music\, activities\, and a one-of-a-kind birthday cake creation by Wilson Farm Bakers! Leading off the musical performances will be a joint concert of the Lexington Bicentennial Band and the Concord Band. \n  \nSchedule of Events\n11:00 a.m. – 11:45 a.m. Lexington Bicentennial Band & Concord Band\n12:00 p.m. – 12:20 p.m. William Diamond Junior Fife and Drum Corps\n12:30 p.m. – 12:45 p.m. Children’s Community Chorus\n1:00 p.m. – 1:15 p.m. Remarks\, Cake Cutting & Sing Happy Birthday\n1:15 p.m. – 2:00 p.m. Jamaica Plain Honk Band \n  \nIn the event of rain\, the event will take place at the Lexington High School Auditorium
URL:https://www.tourlexington.us/event/parkers-prelude-kick-off-festival-captain-john-parkers-295th-birthday-party/
LOCATION:Lexington Battle Green\, 1625 Massachusetts Ave.\, Lexington\, MA\, 02420\, United States
CATEGORIES:Lex250
ATTACH;FMTTYPE=image/jpeg:https://www.tourlexington.us/wp-content/uploads/2024/01/Minute_Man_Statue_Lexington_Massachusetts-768x545-1.jpg
END:VEVENT
BEGIN:VEVENT
DTSTART;TZID=America/New_York:20240921T110000
DTEND;TZID=America/New_York:20240921T140000
DTSTAMP:20260419T135430
CREATED:20240913T153425Z
LAST-MODIFIED:20240913T153425Z
UID:10000141-1726916400-1726927200@www.tourlexington.us
SUMMARY:Parker’s Prelude
DESCRIPTION:Join us for a free community event to celebrate Captain John Parker’s 295th Birthday with a festive celebration on the Lexington Battle Green. Bring along a chair or blanket. There will be music\, activities\, and a one-of-a-kind birthday cake creation by Wilson Farm Bakers! Leading off the musical performances will be a joint concert of the Lexington Bicentennial Band and the Concord Band
URL:https://www.tourlexington.us/event/parkers-prelude/
LOCATION:Lexington Battle Green\, 1625 Massachusetts Ave.\, Lexington\, MA\, 02420\, United States
CATEGORIES:Lex250
ATTACH;FMTTYPE=image/jpeg:https://www.tourlexington.us/wp-content/uploads/2024/09/Captain-Parker.jpg
END:VEVENT
END:VCALENDAR