BEGIN:VCALENDAR
VERSION:2.0
PRODID:-//Visit Lexington MA - ECPv6.15.13//NONSGML v1.0//EN
CALSCALE:GREGORIAN
METHOD:PUBLISH
X-ORIGINAL-URL:https://www.tourlexington.us
X-WR-CALDESC:Events for Visit Lexington MA
REFRESH-INTERVAL;VALUE=DURATION:PT1H
X-Robots-Tag:noindex
X-PUBLISHED-TTL:PT1H
BEGIN:VTIMEZONE
TZID:America/New_York
BEGIN:DAYLIGHT
TZOFFSETFROM:-0500
TZOFFSETTO:-0400
TZNAME:EDT
DTSTART:20240310T070000
END:DAYLIGHT
BEGIN:STANDARD
TZOFFSETFROM:-0400
TZOFFSETTO:-0500
TZNAME:EST
DTSTART:20241103T060000
END:STANDARD
BEGIN:DAYLIGHT
TZOFFSETFROM:-0500
TZOFFSETTO:-0400
TZNAME:EDT
DTSTART:20250309T070000
END:DAYLIGHT
BEGIN:STANDARD
TZOFFSETFROM:-0400
TZOFFSETTO:-0500
TZNAME:EST
DTSTART:20251102T060000
END:STANDARD
BEGIN:DAYLIGHT
TZOFFSETFROM:-0500
TZOFFSETTO:-0400
TZNAME:EDT
DTSTART:20260308T070000
END:DAYLIGHT
BEGIN:STANDARD
TZOFFSETFROM:-0400
TZOFFSETTO:-0500
TZNAME:EST
DTSTART:20261101T060000
END:STANDARD
END:VTIMEZONE
BEGIN:VEVENT
DTSTART;TZID=America/New_York:20250928T183000
DTEND;TZID=America/New_York:20250928T200000
DTSTAMP:20260421T050951
CREATED:20250915T154709Z
LAST-MODIFIED:20250915T154709Z
UID:10000398-1759084200-1759089600@www.tourlexington.us
SUMMARY:Mid-Autumn Festival
DESCRIPTION:Join the Chinese American Association of Lexington (CAAL) for an enchanting evening of tradition and artistry. As a Lex250 partner signature event\, the Mid-Autumn Festival invites you to experience the magic of music and dance\, celebrating celestial beauty and timeless folklore. \nDate: Sunday\, September 28\, 2025\nTime: 6:30 – 8:00 PM\nLocation: Cary Hall\, 1605 Massachusetts Ave\, Lexington \nThe admission is free but registration is required. Please register using the link below: https://www.zeffy.com/en-US/ticketing/mid-autumn-festival–2025 \nCome together with family and friends to celebrate the Mid-Autumn Festival in our community and share the magic beneath the brightest moon.
URL:https://www.tourlexington.us/event/mid-autumn-festival/
LOCATION:Cary Hall\, 1605 Mass Ave\, Lexington\, 02420\, United States
CATEGORIES:Lex250,Art/Cultural Event
ATTACH;FMTTYPE=image/jpeg:https://www.tourlexington.us/wp-content/uploads/2025/09/Mid-Autumn.jpg
END:VEVENT
END:VCALENDAR