BEGIN:VCALENDAR
VERSION:2.0
PRODID:-//Visit Lexington MA - ECPv6.15.13//NONSGML v1.0//EN
CALSCALE:GREGORIAN
METHOD:PUBLISH
X-WR-CALNAME:Visit Lexington MA
X-ORIGINAL-URL:https://www.tourlexington.us
X-WR-CALDESC:Events for Visit Lexington MA
REFRESH-INTERVAL;VALUE=DURATION:PT1H
X-Robots-Tag:noindex
X-PUBLISHED-TTL:PT1H
BEGIN:VTIMEZONE
TZID:America/New_York
BEGIN:DAYLIGHT
TZOFFSETFROM:-0500
TZOFFSETTO:-0400
TZNAME:EDT
DTSTART:20250309T070000
END:DAYLIGHT
BEGIN:STANDARD
TZOFFSETFROM:-0400
TZOFFSETTO:-0500
TZNAME:EST
DTSTART:20251102T060000
END:STANDARD
BEGIN:DAYLIGHT
TZOFFSETFROM:-0500
TZOFFSETTO:-0400
TZNAME:EDT
DTSTART:20260308T070000
END:DAYLIGHT
BEGIN:STANDARD
TZOFFSETFROM:-0400
TZOFFSETTO:-0500
TZNAME:EST
DTSTART:20261101T060000
END:STANDARD
BEGIN:DAYLIGHT
TZOFFSETFROM:-0500
TZOFFSETTO:-0400
TZNAME:EDT
DTSTART:20270314T070000
END:DAYLIGHT
BEGIN:STANDARD
TZOFFSETFROM:-0400
TZOFFSETTO:-0500
TZNAME:EST
DTSTART:20271107T060000
END:STANDARD
END:VTIMEZONE
BEGIN:VEVENT
DTSTART;TZID=America/New_York:20260404T120000
DTEND;TZID=America/New_York:20260411T120000
DTSTAMP:20260419T224137
CREATED:20260310T225218Z
LAST-MODIFIED:20260310T225218Z
UID:10000544-1775304000-1775908800@www.tourlexington.us
SUMMARY:Revolutionary Run
DESCRIPTION:In April 2026\, Patrick Atkinson\, a Scottish Rite Mason from Delaware\, will lace up his running shoes and set out on a monumental journey\, running from Wilmington\, Delaware\, to Lexington\, Massachusetts. This isn’t just a physical test of endurance. It’s a fundraiser to celebrate the 50th anniversary of the Scottish Rite Masonic Museum & Library\, and a tribute to the role many Freemasons played in the American Revolution\, 250 years ago. \nPatrick\, an experienced long-distance runner\, will run 333 miles over 8 days. His route will take him through many areas that witnessed historic events during the American Revolution. Patrick is undertaking this extraordinary journey\, running 50-60 miles a day\, to raise awareness about the museum\, to mark the events surrounding the founding of the United States and—most importantly—to connect with people\, history\, and Freemasons along the way. \nPatrick will end his run by running through Lexington center and arriving at the Scottish Rite Masonic Museum & Library at 12 PM on 4/11.
URL:https://www.tourlexington.us/event/revolutionary-run/
LOCATION:Scottish Rite Masonic Museum & Library\, 33 Marrett Road\, LEXINGTON\, MA\, 02420\, United States
ATTACH;FMTTYPE=image/png:https://www.tourlexington.us/wp-content/uploads/2026/03/RevRun-Sticker_Circle.png
ORGANIZER;CN="Scottish Rite Masonic Museum & Library":MAILTO:info@srmml.org
END:VEVENT
END:VCALENDAR