BEGIN:VCALENDAR
VERSION:2.0
PRODID:-//Visit Lexington MA - ECPv6.15.13//NONSGML v1.0//EN
CALSCALE:GREGORIAN
METHOD:PUBLISH
X-ORIGINAL-URL:https://www.tourlexington.us
X-WR-CALDESC:Events for Visit Lexington MA
REFRESH-INTERVAL;VALUE=DURATION:PT1H
X-Robots-Tag:noindex
X-PUBLISHED-TTL:PT1H
BEGIN:VTIMEZONE
TZID:America/New_York
BEGIN:DAYLIGHT
TZOFFSETFROM:-0500
TZOFFSETTO:-0400
TZNAME:EDT
DTSTART:20250309T070000
END:DAYLIGHT
BEGIN:STANDARD
TZOFFSETFROM:-0400
TZOFFSETTO:-0500
TZNAME:EST
DTSTART:20251102T060000
END:STANDARD
BEGIN:DAYLIGHT
TZOFFSETFROM:-0500
TZOFFSETTO:-0400
TZNAME:EDT
DTSTART:20260308T070000
END:DAYLIGHT
BEGIN:STANDARD
TZOFFSETFROM:-0400
TZOFFSETTO:-0500
TZNAME:EST
DTSTART:20261101T060000
END:STANDARD
BEGIN:DAYLIGHT
TZOFFSETFROM:-0500
TZOFFSETTO:-0400
TZNAME:EDT
DTSTART:20270314T070000
END:DAYLIGHT
BEGIN:STANDARD
TZOFFSETFROM:-0400
TZOFFSETTO:-0500
TZNAME:EST
DTSTART:20271107T060000
END:STANDARD
END:VTIMEZONE
BEGIN:VEVENT
DTSTART;TZID=America/New_York:20260311T120000
DTEND;TZID=America/New_York:20260311T123000
DTSTAMP:20260419T232803
CREATED:20260302T142346Z
LAST-MODIFIED:20260302T142346Z
UID:10000527-1773230400-1773232200@www.tourlexington.us
SUMMARY:Vocal group Bellavoce present a concert of women' s voices\, “Light After Darkness” at Hancock Church
DESCRIPTION:On March 11th\, Bellavoce returns to Hancock Church for the free noontime concert series. With Ian Watson on piano\, bringing their program “Light after Darkness” featuring works for women’s voices by Gabriel Faure\, Elaine Hagenberg\, Ola Gjeilo\, and Felix Mendelssohn alongside a timeless Lenten Gregorian chant\, and a traditional spiritual. Contemplative readings by Natalie Dykstra\, author of Chasing Beauty: The Life of Isabella Stewart Gardner will weave the music together\, offering space for prayer\, reflection\, and renewal.
URL:https://www.tourlexington.us/event/vocal-group-bellavoce-present-a-concert-of-women-s-voices-light-after-darkness-at-hancock-church/
LOCATION:Hancock Church\, 1912 Massachusetts Ave\, Lexington\, Ma\, 02420
CATEGORIES:Art/Cultural Event
ATTACH;FMTTYPE=image/jpeg:https://www.tourlexington.us/wp-content/uploads/2026/02/Mar-11-concert-square.jpg
END:VEVENT
END:VCALENDAR