BEGIN:VCALENDAR
VERSION:2.0
PRODID:-//Visit Lexington MA - ECPv6.15.13//NONSGML v1.0//EN
CALSCALE:GREGORIAN
METHOD:PUBLISH
X-WR-CALNAME:Visit Lexington MA
X-ORIGINAL-URL:https://www.tourlexington.us
X-WR-CALDESC:Events for Visit Lexington MA
REFRESH-INTERVAL;VALUE=DURATION:PT1H
X-Robots-Tag:noindex
X-PUBLISHED-TTL:PT1H
BEGIN:VTIMEZONE
TZID:America/New_York
BEGIN:DAYLIGHT
TZOFFSETFROM:-0500
TZOFFSETTO:-0400
TZNAME:EDT
DTSTART:20250309T070000
END:DAYLIGHT
BEGIN:STANDARD
TZOFFSETFROM:-0400
TZOFFSETTO:-0500
TZNAME:EST
DTSTART:20251102T060000
END:STANDARD
BEGIN:DAYLIGHT
TZOFFSETFROM:-0500
TZOFFSETTO:-0400
TZNAME:EDT
DTSTART:20260308T070000
END:DAYLIGHT
BEGIN:STANDARD
TZOFFSETFROM:-0400
TZOFFSETTO:-0500
TZNAME:EST
DTSTART:20261101T060000
END:STANDARD
BEGIN:DAYLIGHT
TZOFFSETFROM:-0500
TZOFFSETTO:-0400
TZNAME:EDT
DTSTART:20270314T070000
END:DAYLIGHT
BEGIN:STANDARD
TZOFFSETFROM:-0400
TZOFFSETTO:-0500
TZNAME:EST
DTSTART:20271107T060000
END:STANDARD
END:VTIMEZONE
BEGIN:VEVENT
DTSTART;TZID=America/New_York:20260401T120000
DTEND;TZID=America/New_York:20260401T123000
DTSTAMP:20260419T214439
CREATED:20260302T142651Z
LAST-MODIFIED:20260302T142651Z
UID:10000530-1775044800-1775046600@www.tourlexington.us
SUMMARY:Violinist Aija Reke and pianist Lorena Tecu perform for Hancock Church’s final free noontime concert of the series\, April 1st
DESCRIPTION:Hancock Church’s free noontime concerts series concludes on April 1st. Violinist Aija Reke and pianist Lorena Tecu perform the Sonata in A major for Violin and Piano by Cesar Franck. A doctoral student at Boston University\, Aija has appeared at the church many times in our orchestras and with the early music group A Joyful Noyse. \nHancock Church is wheelchair accessible and has single user accessible bathrooms. Our front entrance is accessible\, and once inside you will find an elevator that goes up to Clark Hall. There is free parking in our back lot where there are ADA parking spots\, and there are two more such parking spots on the side of our building. \nOur Noontime Concert Series is generously supported by the Creative Expressions program of the Massachusetts Cultural Council. This grant enables us to hire top notch musicians and present them to you free of charge!
URL:https://www.tourlexington.us/event/violinist-aija-reke-and-pianist-lorena-tecu-perform-for-hancock-churchs-final-free-noontime-concert-of-the-series-april-1st/
LOCATION:Hancock Church\, 1912 Massachusetts Ave\, Lexington\, Ma\, 02420
CATEGORIES:Art/Cultural Event
ATTACH;FMTTYPE=image/png:https://www.tourlexington.us/wp-content/uploads/2026/02/Aija-Lorena-11.png
END:VEVENT
END:VCALENDAR