BEGIN:VCALENDAR
VERSION:2.0
PRODID:-//Visit Lexington MA - ECPv6.15.13//NONSGML v1.0//EN
CALSCALE:GREGORIAN
METHOD:PUBLISH
X-WR-CALNAME:Visit Lexington MA
X-ORIGINAL-URL:https://www.tourlexington.us
X-WR-CALDESC:Events for Visit Lexington MA
REFRESH-INTERVAL;VALUE=DURATION:PT1H
X-Robots-Tag:noindex
X-PUBLISHED-TTL:PT1H
BEGIN:VTIMEZONE
TZID:America/New_York
BEGIN:DAYLIGHT
TZOFFSETFROM:-0500
TZOFFSETTO:-0400
TZNAME:EDT
DTSTART:20250309T070000
END:DAYLIGHT
BEGIN:STANDARD
TZOFFSETFROM:-0400
TZOFFSETTO:-0500
TZNAME:EST
DTSTART:20251102T060000
END:STANDARD
BEGIN:DAYLIGHT
TZOFFSETFROM:-0500
TZOFFSETTO:-0400
TZNAME:EDT
DTSTART:20260308T070000
END:DAYLIGHT
BEGIN:STANDARD
TZOFFSETFROM:-0400
TZOFFSETTO:-0500
TZNAME:EST
DTSTART:20261101T060000
END:STANDARD
BEGIN:DAYLIGHT
TZOFFSETFROM:-0500
TZOFFSETTO:-0400
TZNAME:EDT
DTSTART:20270314T070000
END:DAYLIGHT
BEGIN:STANDARD
TZOFFSETFROM:-0400
TZOFFSETTO:-0500
TZNAME:EST
DTSTART:20271107T060000
END:STANDARD
END:VTIMEZONE
BEGIN:VEVENT
DTSTART;TZID=America/New_York:20260408T183000
DTEND;TZID=America/New_York:20260408T203000
DTSTAMP:20260419T214439
CREATED:20260330T152837Z
LAST-MODIFIED:20260331T225836Z
UID:10000571-1775673000-1775680200@www.tourlexington.us
SUMMARY:“Spring Container Gardening  for Stunning Results” with Susan Nock
DESCRIPTION:Lexington Field & Garden Club presents\n“Spring Container Gardening\nfor Stunning Results” with Susan Nock \nDate: Wednesday. April 8\nPlace: Follen Church\, 755 Massachusetts Avenue\, Lexington\nTime: Social 6:30 p.m. Meeting 7 p.m. \nThis meeting will not be available on Zoom. \nThe presenter will be Susan Nock\, not Stacey Lee as previously reported. A season-specific container garden presentation that includes a comprehensive overview of the whys and hows of container gardening\, the container-garden design principles for balanced\, beautiful containers\, and a dive into how to create gorgeous spring planters with her favorite spring materials. Three containers are planted during this presentation\, showcasing various styles\, materials\, and colors available in New England. \nA FREE event.\nJoin us and bring a friend! \n\nHome
URL:https://www.tourlexington.us/event/spring-container-gardening-for-stunning-results-with-susan-nock/
LOCATION:Follen Church\, 755 Massachusetts Avenue\, Lexington\, MA\, 02420\, United States
CATEGORIES:Art/Cultural Event
ATTACH;FMTTYPE=image/jpeg:https://www.tourlexington.us/wp-content/uploads/2026/03/LFGC-logo-2023-outline-175.jpg
END:VEVENT
END:VCALENDAR