BEGIN:VCALENDAR
VERSION:2.0
PRODID:-//Visit Lexington MA - ECPv6.15.13//NONSGML v1.0//EN
CALSCALE:GREGORIAN
METHOD:PUBLISH
X-WR-CALNAME:Visit Lexington MA
X-ORIGINAL-URL:https://www.tourlexington.us
X-WR-CALDESC:Events for Visit Lexington MA
REFRESH-INTERVAL;VALUE=DURATION:PT1H
X-Robots-Tag:noindex
X-PUBLISHED-TTL:PT1H
BEGIN:VTIMEZONE
TZID:America/New_York
BEGIN:DAYLIGHT
TZOFFSETFROM:-0500
TZOFFSETTO:-0400
TZNAME:EDT
DTSTART:20240310T070000
END:DAYLIGHT
BEGIN:STANDARD
TZOFFSETFROM:-0400
TZOFFSETTO:-0500
TZNAME:EST
DTSTART:20241103T060000
END:STANDARD
BEGIN:DAYLIGHT
TZOFFSETFROM:-0500
TZOFFSETTO:-0400
TZNAME:EDT
DTSTART:20250309T070000
END:DAYLIGHT
BEGIN:STANDARD
TZOFFSETFROM:-0400
TZOFFSETTO:-0500
TZNAME:EST
DTSTART:20251102T060000
END:STANDARD
BEGIN:DAYLIGHT
TZOFFSETFROM:-0500
TZOFFSETTO:-0400
TZNAME:EDT
DTSTART:20260308T070000
END:DAYLIGHT
BEGIN:STANDARD
TZOFFSETFROM:-0400
TZOFFSETTO:-0500
TZNAME:EST
DTSTART:20261101T060000
END:STANDARD
END:VTIMEZONE
BEGIN:VEVENT
DTSTART;TZID=America/New_York:20250708T190000
DTEND;TZID=America/New_York:20250708T203000
DTSTAMP:20260422T084438
CREATED:20250707T194059Z
LAST-MODIFIED:20250707T195806Z
UID:10000356-1752001200-1752006600@www.tourlexington.us
SUMMARY:Village Harmony World Music Ensemble
DESCRIPTION:Village Harmony World Music Ensemble \nTuesday\, July 8\, 2025\, at 7 PM \nVermont-based Village Harmony\, the remarkable teen world music ensemble\, presents its concert program of the summer. The Teen Ensemble I will be led by Patty Cuyler\, Lonnie Norwood\, and Liam Kantor.These brilliant teen singers come from seven states\, Canada\, and France. Village Harmony\, a nonprofit umbrella organization based in Vermont\, promotes the study and performance of ethnic singing traditions from around the world. For more than thirty years\, they have organized teen ensembles each summer in New England and ensembles for mixed-age and adult singers in numerous foreign countries. Each Village Harmony ensemble develops its own unique sound with a different team of leaders. All share common traits: a powerful\, natural\, unrestrained vocal sound; a remarkable variety of vocal styles and timbres appropriate to the ethnic and traditional music; and a visible\, vibrant community among the singers and audience as they share in a joyful celebration of music. Admission is by donation at the door. For further information visit www.villageharmony.org or email villageharmony@gmail.com.
URL:https://www.tourlexington.us/event/village-harmony-world-music-ensemble/
LOCATION:First Parish In Lexington\, 7 Harrington Road\, Lexington\, M\, 02421\, United States
CATEGORIES:Art/Cultural Event
ATTACH;FMTTYPE=image/webp:https://www.tourlexington.us/wp-content/uploads/2025/07/Village-Harmony-Concert-1-2025-Slide.webp
ORGANIZER;CN="Village Harmony":MAILTO:sinead.m.omahoney@gmail.com
END:VEVENT
BEGIN:VEVENT
DTSTART;TZID=America/New_York:20250710T193000
DTEND;TZID=America/New_York:20250710T213000
DTSTAMP:20260422T084438
CREATED:20250603T135150Z
LAST-MODIFIED:20250603T135150Z
UID:10000336-1752175800-1752183000@www.tourlexington.us
SUMMARY:Freedom in All Its Forms- A Lex250 Band Concert by MetWinds
DESCRIPTION:Join the MetWinds\, Guest Conductor Meghan MacFadden\, and the Town of Lexington as we celebrate the 250th anniversary of the Battles of Lexington and Concord. The music will reflect on America’s continuing quest for freedom from the first shots of the Revolutionary War to today. Guest Narrator Frank Oglesby Jr. (the “Voice of the MBTA”) will recite the stirring text of Aaron Copland’s classic Lincoln Portrait. Other favorites include Charles Ives’ mischievous Variations On America\, Kimberly Archer’s delightful medley American Labor Songs\, and Gala Flagello’s swaggering fanfare Bravado. This concert is sponsored in part by grants from the Lexington Council for the Arts and the Massachusetts Cultural Council. The intended audience is anyone who enjoys performances of live concert band music\, history buffs celebrating the 250 anniversary of the Battles of Lexington and Concord\, or anyone interested in hearing how our various freedoms have been celebrated through music. \nThe rain date for this concert is Thursday\, July 17\, 2025 at the same time and location.
URL:https://www.tourlexington.us/event/freedom-in-all-its-forms-a-lex250-band-concert-by-metwinds/
LOCATION:Hastings Park\, Corner of Massachusetts Ave. and Worthen Rd.\, Lexington\, MA\, United States
CATEGORIES:Lex250,Art/Cultural Event
ATTACH;FMTTYPE=image/png:https://www.tourlexington.us/wp-content/uploads/2025/06/metwinds-photo.png
END:VEVENT
END:VCALENDAR