BEGIN:VCALENDAR
VERSION:2.0
PRODID:-//Visit Lexington MA - ECPv6.15.13//NONSGML v1.0//EN
CALSCALE:GREGORIAN
METHOD:PUBLISH
X-ORIGINAL-URL:https://www.tourlexington.us
X-WR-CALDESC:Events for Visit Lexington MA
REFRESH-INTERVAL;VALUE=DURATION:PT1H
X-Robots-Tag:noindex
X-PUBLISHED-TTL:PT1H
BEGIN:VTIMEZONE
TZID:America/New_York
BEGIN:DAYLIGHT
TZOFFSETFROM:-0500
TZOFFSETTO:-0400
TZNAME:EDT
DTSTART:20240310T070000
END:DAYLIGHT
BEGIN:STANDARD
TZOFFSETFROM:-0400
TZOFFSETTO:-0500
TZNAME:EST
DTSTART:20241103T060000
END:STANDARD
BEGIN:DAYLIGHT
TZOFFSETFROM:-0500
TZOFFSETTO:-0400
TZNAME:EDT
DTSTART:20250309T070000
END:DAYLIGHT
BEGIN:STANDARD
TZOFFSETFROM:-0400
TZOFFSETTO:-0500
TZNAME:EST
DTSTART:20251102T060000
END:STANDARD
BEGIN:DAYLIGHT
TZOFFSETFROM:-0500
TZOFFSETTO:-0400
TZNAME:EDT
DTSTART:20260308T070000
END:DAYLIGHT
BEGIN:STANDARD
TZOFFSETFROM:-0400
TZOFFSETTO:-0500
TZNAME:EST
DTSTART:20261101T060000
END:STANDARD
END:VTIMEZONE
BEGIN:VEVENT
DTSTART;TZID=America/New_York:20251024T193000
DTEND;TZID=America/New_York:20251024T210000
DTSTAMP:20260420T005004
CREATED:20250925T151519Z
LAST-MODIFIED:20250925T151519Z
UID:10000403-1761334200-1761339600@www.tourlexington.us
SUMMARY:Mine Be the Lips:  A Concert of Songs by Women Composers Past & Present
DESCRIPTION:Mine Be The Lips features Vira Slywotzky\, an amazing contralto and Cambridge-native\, and pianist David Sytkowski. Through song and spoken word\, they amplify women’s voices in the fight for freedom through time across the globe\, including the United States and other countries. \nThis carefully curated program\, which has been performed in Paris\, France and New York City\, celebrates freedom and the diverse output of female composers of the past who have been overlooked and under-programmed because of their gender and the works of innovative female composers of the present. The songs have been selected both for their beauty and for their power to transport listeners. It features music and words by Maria Szymanowska\, Silvia Filus\, Poldowski\, Amy Beach\, Stefania Turkewich\, Sheila Silver\, Vivian Fung\, Lori Laitman\, Emily Dickinson\, and others. The cabaret-style program will feature American\, Chinese\, French\, Persian\, and Ukrainian songs. \nPresented by Vira + Friends\, co-presented by Lexington Music School and LexSeeHer. Supported in part by a grant from the Lexington Council for the Arts\, a local agency which is supported by the Massachusetts Cultural Council\, a state agency. Additional support provided by Artwine\, Bear Witness and CAAL. \nAbout Vira + Friends\nVira + Friends was founded in May 2018 with the intent of bringing people together to enjoy the live performance of music written for voice and piano. Since that time\, the musical celebration has become a multiform concert series with the expanded missions of developing audiences for classical music and providing a platform for composers traditionally neglected by the Western canon. Vira + Friends thrives on partnering with organizations such as the Billion Oyster Project and Razom for Ukraine\, promoting their work and fundraising for them through themed concerts. Two exciting developments of the past year include the launch of a long term international project presenting the works of women composers past and present and the formation of the Ukrainian Music Initiative. Vira + Friends is a nonprofit corporation under the auspices of the Ukrainian American Educational Center of Boston\, a 501(c)(3).
URL:https://www.tourlexington.us/event/mine-be-the-lips-a-concert-of-songs-by-women-composers-past-present/
LOCATION:Follen Church\, 755 Massachusetts Avenue\, Lexington\, MA\, 02420\, United States
CATEGORIES:Art/Cultural Event
ATTACH;FMTTYPE=image/png:https://www.tourlexington.us/wp-content/uploads/2025/09/VF_Mine-Be-The-Lips-LEX-sm2-scaled.png
ORGANIZER;CN="Ukrainian American Educational Center of Boston":MAILTO:alexg@ukrainiancenter.org
END:VEVENT
END:VCALENDAR