BEGIN:VCALENDAR
VERSION:2.0
PRODID:-//Visit Lexington MA - ECPv6.15.13//NONSGML v1.0//EN
CALSCALE:GREGORIAN
METHOD:PUBLISH
X-ORIGINAL-URL:https://www.tourlexington.us
X-WR-CALDESC:Events for Visit Lexington MA
REFRESH-INTERVAL;VALUE=DURATION:PT1H
X-Robots-Tag:noindex
X-PUBLISHED-TTL:PT1H
BEGIN:VTIMEZONE
TZID:America/New_York
BEGIN:DAYLIGHT
TZOFFSETFROM:-0500
TZOFFSETTO:-0400
TZNAME:EDT
DTSTART:20240310T070000
END:DAYLIGHT
BEGIN:STANDARD
TZOFFSETFROM:-0400
TZOFFSETTO:-0500
TZNAME:EST
DTSTART:20241103T060000
END:STANDARD
BEGIN:DAYLIGHT
TZOFFSETFROM:-0500
TZOFFSETTO:-0400
TZNAME:EDT
DTSTART:20250309T070000
END:DAYLIGHT
BEGIN:STANDARD
TZOFFSETFROM:-0400
TZOFFSETTO:-0500
TZNAME:EST
DTSTART:20251102T060000
END:STANDARD
BEGIN:DAYLIGHT
TZOFFSETFROM:-0500
TZOFFSETTO:-0400
TZNAME:EDT
DTSTART:20260308T070000
END:DAYLIGHT
BEGIN:STANDARD
TZOFFSETFROM:-0400
TZOFFSETTO:-0500
TZNAME:EST
DTSTART:20261101T060000
END:STANDARD
END:VTIMEZONE
BEGIN:VEVENT
DTSTART;TZID=America/New_York:20251102T160000
DTEND;TZID=America/New_York:20251102T173000
DTSTAMP:20260419T231109
CREATED:20251028T181045Z
LAST-MODIFIED:20251028T181045Z
UID:10000415-1762099200-1762104600@www.tourlexington.us
SUMMARY:Faculty Concert: “Fiddle Traditions”
DESCRIPTION:Join Winchester Community Music School for a celebration of toe-tapping fiddle tunes! WCMS faculty member Molly Tucker and guest artist Casey Murray will present a concert of original and traditional fiddle tunes in the New England\, Celtic\, and Old Time styles. As dance musicians\, they will share music that inspires movement and joy\, in addition to songs they love and original compositions. \nFree admission—all are welcome. A suggested $20 donation supports our concerts and performers. Presented live in Nichols Performance Hall at WCMS and also streamed live on our YouTube and Facebook channels. For more information\, visit www.winchestermusic.org or call 781-721-2950. 407 Highland Avenue\, Winchester.
URL:https://www.tourlexington.us/event/faculty-concert-fiddle-traditions/
LOCATION:Winchester Community Music School\, 407 Highland Avenue\, Winchester\, M\, 01890\, United States
CATEGORIES:Art/Cultural Event
ATTACH;FMTTYPE=image/jpeg:https://www.tourlexington.us/wp-content/uploads/2025/10/Casey_and_Molly.jpg
ORGANIZER;CN="Winchester Community Music School":MAILTO:wcms@winchestermusic.org
END:VEVENT
END:VCALENDAR