BEGIN:VCALENDAR
VERSION:2.0
PRODID:-//Visit Lexington MA - ECPv6.15.13//NONSGML v1.0//EN
CALSCALE:GREGORIAN
METHOD:PUBLISH
X-ORIGINAL-URL:https://www.tourlexington.us
X-WR-CALDESC:Events for Visit Lexington MA
REFRESH-INTERVAL;VALUE=DURATION:PT1H
X-Robots-Tag:noindex
X-PUBLISHED-TTL:PT1H
BEGIN:VTIMEZONE
TZID:America/New_York
BEGIN:DAYLIGHT
TZOFFSETFROM:-0500
TZOFFSETTO:-0400
TZNAME:EDT
DTSTART:20250309T070000
END:DAYLIGHT
BEGIN:STANDARD
TZOFFSETFROM:-0400
TZOFFSETTO:-0500
TZNAME:EST
DTSTART:20251102T060000
END:STANDARD
BEGIN:DAYLIGHT
TZOFFSETFROM:-0500
TZOFFSETTO:-0400
TZNAME:EDT
DTSTART:20260308T070000
END:DAYLIGHT
BEGIN:STANDARD
TZOFFSETFROM:-0400
TZOFFSETTO:-0500
TZNAME:EST
DTSTART:20261101T060000
END:STANDARD
BEGIN:DAYLIGHT
TZOFFSETFROM:-0500
TZOFFSETTO:-0400
TZNAME:EDT
DTSTART:20270314T070000
END:DAYLIGHT
BEGIN:STANDARD
TZOFFSETFROM:-0400
TZOFFSETTO:-0500
TZNAME:EST
DTSTART:20271107T060000
END:STANDARD
END:VTIMEZONE
BEGIN:VEVENT
DTSTART;TZID=America/New_York:20260425T193000
DTEND;TZID=America/New_York:20260425T213000
DTSTAMP:20260425T145302
CREATED:20260407T132759Z
LAST-MODIFIED:20260407T132759Z
UID:10000580-1777145400-1777152600@www.tourlexington.us
SUMMARY:An Evening With Shakespeare
DESCRIPTION:AN EVENING WITH SHAKESPEARE\nSATURDAY\, APRIL 25\, 2026 | 7:30PM\nPRE-CONCERT CONDUCTOR’S TALK AT 6:30PM \nSponsored by Kip Connor & Linh Vong\nMendelssohn (arr. McPhee) | A Midsummer Night’s Dream\n—Sonja Tengblad\, soprano\n—Emily Marvosh\, alto \nOur season finale features Mendelssohn’s A Midsummer Night’s Dream. This composition is adapted and arranged by Maestro McPhee and expands Mendelssohn’s incidental music into a full evening that explores Shakespeare’s comedic wit and warmly human story where the real and fairy worlds collide. Tickets at https://www.lexingtonsymphony.org/20252026-season
URL:https://www.tourlexington.us/event/an-evening-with-shakespeare/
LOCATION:Cary Hall\, 1605 Mass Ave\, Lexington\, 02420\, United States
CATEGORIES:Art/Cultural Event
ATTACH;FMTTYPE=image/png:https://www.tourlexington.us/wp-content/uploads/2026/04/Screenshot-2026-03-25-at-8.30.34-AM.png
ORGANIZER;CN="Lexington Symphony":MAILTO:info@LexingtonSymphony.org
END:VEVENT
END:VCALENDAR