BEGIN:VCALENDAR
VERSION:2.0
PRODID:-//Visit Lexington MA - ECPv6.15.13//NONSGML v1.0//EN
CALSCALE:GREGORIAN
METHOD:PUBLISH
X-ORIGINAL-URL:https://www.tourlexington.us
X-WR-CALDESC:Events for Visit Lexington MA
REFRESH-INTERVAL;VALUE=DURATION:PT1H
X-Robots-Tag:noindex
X-PUBLISHED-TTL:PT1H
BEGIN:VTIMEZONE
TZID:America/New_York
BEGIN:DAYLIGHT
TZOFFSETFROM:-0500
TZOFFSETTO:-0400
TZNAME:EDT
DTSTART:20230312T070000
END:DAYLIGHT
BEGIN:STANDARD
TZOFFSETFROM:-0400
TZOFFSETTO:-0500
TZNAME:EST
DTSTART:20231105T060000
END:STANDARD
BEGIN:DAYLIGHT
TZOFFSETFROM:-0500
TZOFFSETTO:-0400
TZNAME:EDT
DTSTART:20240310T070000
END:DAYLIGHT
BEGIN:STANDARD
TZOFFSETFROM:-0400
TZOFFSETTO:-0500
TZNAME:EST
DTSTART:20241103T060000
END:STANDARD
BEGIN:DAYLIGHT
TZOFFSETFROM:-0500
TZOFFSETTO:-0400
TZNAME:EDT
DTSTART:20250309T070000
END:DAYLIGHT
BEGIN:STANDARD
TZOFFSETFROM:-0400
TZOFFSETTO:-0500
TZNAME:EST
DTSTART:20251102T060000
END:STANDARD
BEGIN:DAYLIGHT
TZOFFSETFROM:-0500
TZOFFSETTO:-0400
TZNAME:EDT
DTSTART:20260308T070000
END:DAYLIGHT
BEGIN:STANDARD
TZOFFSETFROM:-0400
TZOFFSETTO:-0500
TZNAME:EST
DTSTART:20261101T060000
END:STANDARD
END:VTIMEZONE
BEGIN:VEVENT
DTSTART;TZID=America/New_York:20251109T160000
DTEND;TZID=America/New_York:20251109T220000
DTSTAMP:20260419T185333
CREATED:20250924T171530Z
LAST-MODIFIED:20250924T171530Z
UID:10000402-1762704000-1762725600@www.tourlexington.us
SUMMARY:IAL Diwali
DESCRIPTION:Entrance ticket\nhttps://www.indianamericansoflexington.org/tickets \nEarly Bird Specials: Tickets will be available starting September 21\, 2025. Special pricing will end on October 20\, 2025. \nFood Ticket Purchase Link for Diwali 2025\nhttps://ial-2025.square.site/
URL:https://www.tourlexington.us/event/ial-diwali/
LOCATION:Issac Cary Memorial Building\, 1605 Massachusetts Ave\, Lexington\, MA\, 02420\, United States
CATEGORIES:Fair/Festival,Art/Cultural Event
ATTACH;FMTTYPE=image/jpeg:https://www.tourlexington.us/wp-content/uploads/2025/09/IAL-Diwali.jpg
END:VEVENT
BEGIN:VEVENT
DTSTART;TZID=America/New_York:20241019T163000
DTEND;TZID=America/New_York:20241019T203000
DTSTAMP:20260419T185333
CREATED:20241008T162953Z
LAST-MODIFIED:20241008T162953Z
UID:10000159-1729355400-1729369800@www.tourlexington.us
SUMMARY:IAL Diwali Spectacular 2024
DESCRIPTION:Indian Americans of Lexington (IAL) is celebrating its 2024 Diwali on October 19th 4:00-8:30 at Cary Hall. Diwali (also “Deepavali”) — the festival lights — is one of biggest festivals in India and is truly pan-Indian. Indian Americans of Lexington has been conducting the Diwali Fest since 1995 and has been one of the most popular events here in our community\, drawing over 500 – 800 attendees with the past few years being sold out. \nThe celebration includes a variety of cultural programs by kids and adults\, antakshari\, flash mob dance\, open floor dancing and henna. \nTickets for IAL Diwali Spectacular 2024 are on sale now. Use the following link to purchase more tickets in case your friends and family would like to attend this event: \nhttps://www.indianamericansoflexington.org/tickets
URL:https://www.tourlexington.us/event/ial-diwali-spectacular-2024/
LOCATION:Issac Cary Memorial Building\, 1605 Massachusetts Ave\, Lexington\, MA\, 02420\, United States
CATEGORIES:Fair/Festival,Art/Cultural Event
ATTACH;FMTTYPE=image/jpeg:https://www.tourlexington.us/wp-content/uploads/2024/10/Diwali-Mela-2024.jpg
END:VEVENT
END:VCALENDAR