BEGIN:VCALENDAR
VERSION:2.0
PRODID:-//Visit Lexington MA - ECPv6.15.13//NONSGML v1.0//EN
CALSCALE:GREGORIAN
METHOD:PUBLISH
X-WR-CALNAME:Visit Lexington MA
X-ORIGINAL-URL:https://www.tourlexington.us
X-WR-CALDESC:Events for Visit Lexington MA
REFRESH-INTERVAL;VALUE=DURATION:PT1H
X-Robots-Tag:noindex
X-PUBLISHED-TTL:PT1H
BEGIN:VTIMEZONE
TZID:America/New_York
BEGIN:DAYLIGHT
TZOFFSETFROM:-0500
TZOFFSETTO:-0400
TZNAME:EDT
DTSTART:20230312T070000
END:DAYLIGHT
BEGIN:STANDARD
TZOFFSETFROM:-0400
TZOFFSETTO:-0500
TZNAME:EST
DTSTART:20231105T060000
END:STANDARD
BEGIN:DAYLIGHT
TZOFFSETFROM:-0500
TZOFFSETTO:-0400
TZNAME:EDT
DTSTART:20240310T070000
END:DAYLIGHT
BEGIN:STANDARD
TZOFFSETFROM:-0400
TZOFFSETTO:-0500
TZNAME:EST
DTSTART:20241103T060000
END:STANDARD
BEGIN:DAYLIGHT
TZOFFSETFROM:-0500
TZOFFSETTO:-0400
TZNAME:EDT
DTSTART:20250309T070000
END:DAYLIGHT
BEGIN:STANDARD
TZOFFSETFROM:-0400
TZOFFSETTO:-0500
TZNAME:EST
DTSTART:20251102T060000
END:STANDARD
END:VTIMEZONE
BEGIN:VEVENT
DTSTART;TZID=America/New_York:20241129T090000
DTEND;TZID=America/New_York:20241129T120000
DTSTAMP:20260425T173203
CREATED:20241118T150302Z
LAST-MODIFIED:20241118T150302Z
UID:10000184-1732870800-1732881600@www.tourlexington.us
SUMMARY:LexGiving 5k Run/Walk
DESCRIPTION:Since 2008\, the Lexington High School Cross Country / Track & Field program has hosted an “Alumni Race” on the same nearly all-road course the team has called home since 1970. Beginning in 2023\, in the interest of sharing the sport we love with the larger community\, the Cross Country / Track & Field team partnered with the LHS Wrestling team to host the race. Our teams are excited to welcome the running community to The Second Annual LexGiving 5k Run/Walk on Black Friday\, November 29th at 9am. All proceeds will go to the LHS Cross Country / Track & Field and Wrestling teams. \n  \nEntry Fees \n\nPre-Registration Race Fee: $35 \nDay of Event Race Fee: $40\nStudents & Seniors: $25\nTown of Lexington Employees & First Responders: $25\n\nEvent Swag \n\nParticipants who register before November 8th receive the official LexGiving 5k T-shirt\nRace T-shirts can be purchases through our online store or on race day for $20\nAll participants will receive one (1) 50/50 raffle ticket as part of their registration fee\n\nAwards \n\nMale winner\nFemale winner\nTop LHS alumni male\nTop LHS alumni female\nAge group awards will be issued to the top male and female finishers in the following categories:\n\n11 and under\n12-14 years old\n15-19 years old\n20-29 years old\n30-39 years old\n40-49 years old\n50-59 years old\n60-69 years old\n70 and over\n\n\n\nRace Route \n\nClick here to view 5k Course Map\n\nRace Day Photos \n\nPhotos will be taken throughout the race\nAll race day photos will be published and available to the public for FREE on our website at the completion of the event\n\nStrollers and dogs are welcome in the race\, lined up at the back of the starting pack to avoid collisions.
URL:https://www.tourlexington.us/event/lexgiving-5k-run-walk/
LOCATION:Lincoln Field\, 100 Lincoln St\, LEXINGTON\, MA\, 02420\, United States
CATEGORIES:Fair/Festival
ATTACH;FMTTYPE=image/jpeg:https://www.tourlexington.us/wp-content/uploads/2024/11/LexRun.jpg
END:VEVENT
END:VCALENDAR