BEGIN:VCALENDAR
VERSION:2.0
PRODID:-//Visit Lexington MA - ECPv6.15.13//NONSGML v1.0//EN
CALSCALE:GREGORIAN
METHOD:PUBLISH
X-WR-CALNAME:Visit Lexington MA
X-ORIGINAL-URL:https://www.tourlexington.us
X-WR-CALDESC:Events for Visit Lexington MA
REFRESH-INTERVAL;VALUE=DURATION:PT1H
X-Robots-Tag:noindex
X-PUBLISHED-TTL:PT1H
BEGIN:VTIMEZONE
TZID:America/New_York
BEGIN:DAYLIGHT
TZOFFSETFROM:-0500
TZOFFSETTO:-0400
TZNAME:EDT
DTSTART:20230312T070000
END:DAYLIGHT
BEGIN:STANDARD
TZOFFSETFROM:-0400
TZOFFSETTO:-0500
TZNAME:EST
DTSTART:20231105T060000
END:STANDARD
BEGIN:DAYLIGHT
TZOFFSETFROM:-0500
TZOFFSETTO:-0400
TZNAME:EDT
DTSTART:20240310T070000
END:DAYLIGHT
BEGIN:STANDARD
TZOFFSETFROM:-0400
TZOFFSETTO:-0500
TZNAME:EST
DTSTART:20241103T060000
END:STANDARD
BEGIN:DAYLIGHT
TZOFFSETFROM:-0500
TZOFFSETTO:-0400
TZNAME:EDT
DTSTART:20250309T070000
END:DAYLIGHT
BEGIN:STANDARD
TZOFFSETFROM:-0400
TZOFFSETTO:-0500
TZNAME:EST
DTSTART:20251102T060000
END:STANDARD
BEGIN:DAYLIGHT
TZOFFSETFROM:-0500
TZOFFSETTO:-0400
TZNAME:EDT
DTSTART:20260308T070000
END:DAYLIGHT
BEGIN:STANDARD
TZOFFSETFROM:-0400
TZOFFSETTO:-0500
TZNAME:EST
DTSTART:20261101T060000
END:STANDARD
BEGIN:DAYLIGHT
TZOFFSETFROM:-0500
TZOFFSETTO:-0400
TZNAME:EDT
DTSTART:20270314T070000
END:DAYLIGHT
BEGIN:STANDARD
TZOFFSETFROM:-0400
TZOFFSETTO:-0500
TZNAME:EST
DTSTART:20271107T060000
END:STANDARD
END:VTIMEZONE
BEGIN:VEVENT
DTSTART;TZID=America/New_York:20260418T050000
DTEND;TZID=America/New_York:20260418T170000
DTSTAMP:20260419T175846
CREATED:20251202T155853Z
LAST-MODIFIED:20260417T140413Z
UID:10000436-1776488400-1776531600@www.tourlexington.us
SUMMARY:2026 Patriots' Day Reenactment and Parade
DESCRIPTION:The Reenactment of the Battle at Lexington \nand the Annual Patriots’ Day Parade \nwill take place on Saturday\, April 18\, 2026. \nLexington’s Patriots’ Day celebration commemorates the opening moments of the American Revolution with moving reenactments\, solemn ceremonies\, and vibrant community events. At dawn\, the Battle Green comes alive as militia and British regulars recreate April 19\, 1775. Parades\, historic homes\, music\, and family activities follow\, honoring courage\, sacrifice\, and civic pride while welcoming visitors to experience the town’s enduring revolutionary spirit through storytelling\, education\, reflection\, and shared remembrance across generations and communities each historic spring. \n\n\n\n\n\n\n\n\nIn celebration of America 250\, Lexington will present its Patriots’ Day Parade on Saturday\, April 18\, at 1:30 PM (please note the new start time). The step-off point is at the intersection of Maple Avenue and Massachusetts Avenue\, and will follow through to Lexington Center\, ending at Worthen Road. \nA wide variety of groups\, reenactors\, marching bands\, and much more will be on hand to entertain us. \n\n\n\nParking and Road Closures \nFood Trucks and Vendors \nWater\, Restrooms\, Medical Tents \n  \n\n\n\nPatriots’ Day Weekend 2026 Schedule\nFriday\, April 17 to Tuesday\, April 21\nThis schedule is subject to change. \nFriday\, April 17\n5:30 PM – Pre-Awards Ceremony Festivities Outside Cary Memorial Hall\nMore details to follow! \n7:00 PM – Patriots’ Day Awards Ceremony at Cary Memorial Hall\nCommunity awards to recognize the recipients of the Lexington Minute Men Scholarship\, White Tricorne Hat\, Minuteman Cane and Pat Flynn Outstanding Youth \n8:00 PM – April VO250 Arch Lighting Outside Cary Memorial Hall\nPlease join us to light more bulbs on the VO250 Arch in recognition of community-wide volunteer service. \n9:00 PM – Paul Revere’s Ride\nHancock-Clarke House\, 36 Hancock Street. Real horses.\nLexington History Museum’s Website \nSaturday\, April 18\n5:15 AM – Reenactment of the Battle of Lexington\nLexington Battle Green – Massachusetts Avenue at Bedford Street.\nLexington Minutemen Website \n5:30 AM to 10:00 AM – Pancake Breakfasts \n\n\n\n5:30 AM – Boy Scout Troop 160 at St. Brigid’s Parish\, 1981 Massachusetts Avenue\, Lexington\n6:00 AM – First Baptist Church of Lexington\, 1580 Massachusetts Avenue\, Lexington (diagonally across from Cary Hall)\n6:00 AM – The Church of Our Redeemer\, 6 Meriam Street\, Lexington\n\n\n\n6:00 AM to 2:00 PM – Buckman Tavern\, One Bedford Street\, Lexington\n\n6:00 AM to 8:00 AM: Walk-though tours\n8:00 AM to 2:00 PM: Regular Audio Tours with special exhibition Swept Up in Revolution\n\nLexington History Museum’s Website \n8:00 AM to 2:00 PM – Operating Hours for Lexington History Museums\nLexington History Museum’s Website \n\nHancock-Clarke House\, 36 Hancock Street\, Lexington\nMunroe Tavern\, 1332 Massachusetts Avenue\, Lexington\nLexington Depot\, 13 Depot Square\, Lexington\n\n8:00 AM to 9:15 AM – Lions Club 112th Patriots’ Day 5-Mile Road Race\nStarts/ends at the Battle Green.\nLexington Lions Club Website \n9:00 AM to 9:45 AM – USS Lexington Ceremonies\nVisitors Center\, 1875 Massachusetts Avenue\, adjacent to Buckman Tavern.\nLexington Lions Club Website \n10:00 AM – Greek Pastry Bake Sale\nSt. Nicholas Greek Orthodox Church\,17 Meriam Street\, Lexington \n10:30 AM to 11:00 AM – Munroe Tavern Reenactment\n1332 Massachusetts Avenue\, Lexington.\nLexington Minutemen Website \n11:00 AM to 11:40 AM – Patriots’ Day Handbell Concert at Hancock Church\n1912 Massachusetts Avenue\, Lexington (stone church across from the Battle Green) \n11:00 AM to 11:45 AM – Battle at Tower Park\nMassachusetts Avenue\, opposite Pelham Road\, Lexington \n11:30 AM – Float Judging\nMassachusetts Avenue\, East Lexington\, across from Sacred Heart Church \n1:30 PM – Patriots’ Day Parade*\n*Please note the change in start time for the Patriots’ Day Parade. \n7:00 PM – Lexington Bicentennial Band and Lexington Pops Chorus Concert at Battin Hall\, Cary Memorial Building \nFree/Donations Accepted \nMonday\, April 20\nThe time for each event marked “TBD” will be determined and posted at a later date. \n9:30 AM – Ye Old Burial Ground Ceremony\, 1965 Massachusetts Avenue\n10:00 AM – Daughters of the American Revolution 116th Wreath-Laying Ceremony at the Battle Green\n\n10:00 AM to 4:00 PM – Revolutionary Scavenger Hunt at Depot Square\n\n11:00 AM to 3:00 PM – Patriots’ Day Living History at Buckman Tavern\n\n12:30 PM – Paul Revere’s Arrival at the Battle Green on Horseback\nTuesday\, April 21\n11:00 AM – Naturalization Ceremony at the Battle Green
URL:https://www.tourlexington.us/event/2026-patriots-day-reenactment-and-parade/
LOCATION:Lexington Battle Green\, 1625 Massachusetts Ave.\, Lexington\, MA\, 02420\, United States
CATEGORIES:Lex250,Patriots' Day 2026
ATTACH;FMTTYPE=image/jpeg:https://www.tourlexington.us/wp-content/uploads/2025/07/Reenactment_Apr192025_VikramAnantha-20-scaled.jpg
END:VEVENT
BEGIN:VEVENT
DTSTART;TZID=America/New_York:20250816T080000
DTEND;TZID=America/New_York:20250816T140000
DTSTAMP:20260419T175846
CREATED:20250813T173147Z
LAST-MODIFIED:20250813T173147Z
UID:10000386-1755331200-1755352800@www.tourlexington.us
SUMMARY:America250 Celebrates Our America Story
DESCRIPTION:Hello! We are travelling to Massachusetts with America250.org in celebration of America’s 250th Birthday. We would like to hold a small press kickoff at Lexington Battle Green this Saturday\, August 16\, from 9:00 AM – 11:00 AM. We can provide the exact scope of the event\, but given the timetable would love to speak to someone very soon. Please contact Daniel Fisher at 662-352-1977.
URL:https://www.tourlexington.us/event/america250-celebrates-our-america-story/
LOCATION:Lexington Battle Green\, 1625 Massachusetts Ave.\, Lexington\, MA\, 02420\, United States
CATEGORIES:Art/Cultural Event
ATTACH;FMTTYPE=image/jpeg:https://www.tourlexington.us/wp-content/uploads/2025/08/IMG_3453-scaled.jpeg
ORGANIZER;CN="america250.org":MAILTO:daniel@teamesi.com
END:VEVENT
BEGIN:VEVENT
DTSTART;TZID=America/New_York:20250422T110000
DTEND;TZID=America/New_York:20250422T120000
DTSTAMP:20260419T175846
CREATED:20250409T142025Z
LAST-MODIFIED:20250409T142557Z
UID:10000281-1745319600-1745323200@www.tourlexington.us
SUMMARY:Naturalization Ceremony
DESCRIPTION:On April 19th\, 1775\, Lexington’s town common made history as the site of the first shot of the Revolutionary War. From that war\, a new country was born. Now\, 250 years later\, we welcome a group of aspiring Americans to this historic ground as they are formally naturalized as American citizens and become a part of our colorful national tapestry. This event is open to the public\, but seating is extremely limited. \nStay tuned for more information about this event.
URL:https://www.tourlexington.us/event/naturalization-ceremony/
LOCATION:Lexington Battle Green\, 1625 Massachusetts Ave.\, Lexington\, MA\, 02420\, United States
CATEGORIES:Lex250,Patriots' Day 2025
ATTACH;FMTTYPE=image/jpeg:https://www.tourlexington.us/wp-content/uploads/2025/04/Minute_Man_Statue_Lexington_Massachusetts.jpg
END:VEVENT
BEGIN:VEVENT
DTSTART;TZID=America/New_York:20250301T130000
DTEND;TZID=America/New_York:20250301T163000
DTSTAMP:20260419T175846
CREATED:20250122T211505Z
LAST-MODIFIED:20250214T153243Z
UID:10000226-1740834000-1740846600@www.tourlexington.us
SUMMARY:Massachusetts Militia and Minute Forces - Battalion-Level Winter Drill
DESCRIPTION:In advance of the 250th Anniversary\, join Massachusetts Militia and Minute forces as they prepare to defend themselves against any foe. With several militia units present as well as the Ladies Association of Revolutionary America (LARA)\, this event will begin with a sermon by the local Reverend Jonas Clarke\, followed by drills on the Lexington Battle Green. \nSchedule of Events: \n1 p.m. | Battalions Arrive\, Sermon by Reverend Jonas Clarke \n1:30 p.m. – 2:30 p.m. | Company Drills \n2:30 p.m. – 3:15 p.m. | Battalion Drills \n3:30 p.m. – 4:15 p.m. | Inspection of Arms and Equipment
URL:https://www.tourlexington.us/event/massachusetts-militia-and-minute-forces-battalion-level-winter-drill/
LOCATION:Lexington Battle Green\, 1625 Massachusetts Ave.\, Lexington\, MA\, 02420\, United States
ATTACH;FMTTYPE=image/jpeg:https://www.tourlexington.us/wp-content/uploads/2025/01/minutemen-2048x1396-1.jpg
END:VEVENT
BEGIN:VEVENT
DTSTART;TZID=America/New_York:20240921T110000
DTEND;TZID=America/New_York:20240921T140000
DTSTAMP:20260419T175846
CREATED:20240913T153425Z
LAST-MODIFIED:20240913T153425Z
UID:10000141-1726916400-1726927200@www.tourlexington.us
SUMMARY:Parker’s Prelude
DESCRIPTION:Join us for a free community event to celebrate Captain John Parker’s 295th Birthday with a festive celebration on the Lexington Battle Green. Bring along a chair or blanket. There will be music\, activities\, and a one-of-a-kind birthday cake creation by Wilson Farm Bakers! Leading off the musical performances will be a joint concert of the Lexington Bicentennial Band and the Concord Band
URL:https://www.tourlexington.us/event/parkers-prelude/
LOCATION:Lexington Battle Green\, 1625 Massachusetts Ave.\, Lexington\, MA\, 02420\, United States
CATEGORIES:Lex250
ATTACH;FMTTYPE=image/jpeg:https://www.tourlexington.us/wp-content/uploads/2024/09/Captain-Parker.jpg
END:VEVENT
BEGIN:VEVENT
DTSTART;TZID=America/New_York:20240921T110000
DTEND;TZID=America/New_York:20240921T140000
DTSTAMP:20260419T175846
CREATED:20240131T131829Z
LAST-MODIFIED:20240904T144304Z
UID:10000045-1726916400-1726927200@www.tourlexington.us
SUMMARY:Parkers Prelude Kick-Off Festival (Captain John Parker's 295th birthday party)
DESCRIPTION:Join Lexington 250 for a free community event to celebrate Captain John Parker’s 295th Birthday with a festive celebration on the Lexington Battle Green. Bring along a chair or blanket. There will be music\, activities\, and a one-of-a-kind birthday cake creation by Wilson Farm Bakers! Leading off the musical performances will be a joint concert of the Lexington Bicentennial Band and the Concord Band. \n  \nSchedule of Events\n11:00 a.m. – 11:45 a.m. Lexington Bicentennial Band & Concord Band\n12:00 p.m. – 12:20 p.m. William Diamond Junior Fife and Drum Corps\n12:30 p.m. – 12:45 p.m. Children’s Community Chorus\n1:00 p.m. – 1:15 p.m. Remarks\, Cake Cutting & Sing Happy Birthday\n1:15 p.m. – 2:00 p.m. Jamaica Plain Honk Band \n  \nIn the event of rain\, the event will take place at the Lexington High School Auditorium
URL:https://www.tourlexington.us/event/parkers-prelude-kick-off-festival-captain-john-parkers-295th-birthday-party/
LOCATION:Lexington Battle Green\, 1625 Massachusetts Ave.\, Lexington\, MA\, 02420\, United States
CATEGORIES:Lex250
ATTACH;FMTTYPE=image/jpeg:https://www.tourlexington.us/wp-content/uploads/2024/01/Minute_Man_Statue_Lexington_Massachusetts-768x545-1.jpg
END:VEVENT
BEGIN:VEVENT
DTSTART;TZID=America/New_York:20240902T130000
DTEND;TZID=America/New_York:20240902T150000
DTSTAMP:20260419T175846
CREATED:20240131T134224Z
LAST-MODIFIED:20240628T173838Z
UID:10000052-1725282000-1725289200@www.tourlexington.us
SUMMARY:Reenactment of the Marquis de Lafayette's 1824 Lexington Visit
DESCRIPTION:In 1824\, the people of Lexington awaited a major milestone: the 50th anniversary of the Battle of Lexington and the Revolutionary War. Also anticipating this occasion was one of the last surviving war heroes of that generation: General Gilbert du Motier\, Marquis de Lafayette. The celebrated soldier made one last visit back to the United States to tour the expanding country and celebrate its past. Now\, join us on the 200th anniversary of Lafayette’s visit\, on the original site\, to see how Lexingtonians in the early 19th century welcomed celebrated war heroes! Using extensive research\, we will recreate the original program of this event. The General will be welcomed by the townspeople with bells ringing and cannons firing\, followed by presentations by notable townsfolk of the period. Rain Venue: Battin Hall\, Cary Memorial Building to the entry for Lafayette Returns. \n 
URL:https://www.tourlexington.us/event/reenactment-of-the-marquis-de-lafayettes-1824-lexington-visit/
LOCATION:Lexington Battle Green\, 1625 Massachusetts Ave.\, Lexington\, MA\, 02420\, United States
CATEGORIES:Lex250
ATTACH;FMTTYPE=image/jpeg:https://www.tourlexington.us/wp-content/uploads/2024/01/Lafayette.jpg
END:VEVENT
BEGIN:VEVENT
DTSTART;TZID=America/New_York:20240503T190000
DTEND;TZID=America/New_York:20240503T203000
DTSTAMP:20260419T175846
CREATED:20240507T212338Z
LAST-MODIFIED:20240507T212338Z
UID:10000054-1714762800-1714768200@www.tourlexington.us
SUMMARY:Lexington Fife & Drum Weekend
DESCRIPTION:Attend the 22nd Annual Lexington Tattoo and Muster \nTattoo: Friday\, May 3\, 7:00 pm on the Lexington Battle Green (1625 Massachusetts Ave.).\nFree outdoor evening performance of fife and drum music at the scene of the first skirmish in the Revolutionary War. Hosted by the William Diamond Junior Fife & Drum Corps of Lexington and featuring corps including the Kentish Guards\, one of the oldest fife and drum corps in the US\, and the Middlesex County Volunteers Fife & Drum Corps.\nAll-day Muster the following day at Hastings Park.
URL:https://www.tourlexington.us/event/lexington-fife-drum-weekend/
LOCATION:Lexington Battle Green\, 1625 Massachusetts Ave.\, Lexington\, MA\, 02420\, United States
CATEGORIES:Cultural District
ATTACH;FMTTYPE=image/jpeg:https://www.tourlexington.us/wp-content/uploads/2024/02/BedfordPoleCapping-03-DSC_8680.jpg
ORGANIZER;CN="Wiliam Diamond Junior Fife &amp%3B Drum Corps":MAILTO:wdj@ezzellwebb.com
END:VEVENT
BEGIN:VEVENT
DTSTART;TZID=America/New_York:20240503T183000
DTEND;TZID=America/New_York:20240503T200000
DTSTAMP:20260419T175846
CREATED:20240429T172632Z
LAST-MODIFIED:20240429T172632Z
UID:10000086-1714761000-1714766400@www.tourlexington.us
SUMMARY:Annual Lexington Fife & Drum Tattoo
DESCRIPTION:Friday\, May 3\, 6:30 pm on the Lexington Battle Green (1625 Massachusetts Ave.). Free outdoor evening performance of fife and drum music at the scene of the first skirmish in the Revolutionary War. Hosted by the William Diamond Junior Fife & Drum Corps of Lexington and featuring corps including the Kentish Guards\, one of the oldest fife and drum corps in the US\, and the Middlesex County Volunteers Fife & Drum Corps. Followed on Saturday\, May 4\, by an all-day free fife and drum music festival (Muster) 12:00-4:00 pm in Hastings Park in Lexington.
URL:https://www.tourlexington.us/event/annual-lexington-fife-drum-tattoo/
LOCATION:Lexington Battle Green\, 1625 Massachusetts Ave.\, Lexington\, MA\, 02420\, United States
ATTACH;FMTTYPE=image/jpeg:https://www.tourlexington.us/wp-content/uploads/2024/04/Photo-Tattoo-2022-05-09-MCV.jpg
ORGANIZER;CN="William Diamond Junior Fife &amp%3B Drum Corps":MAILTO:wdj@ezzellwebb.com
END:VEVENT
BEGIN:VEVENT
DTSTART;TZID=America/New_York:20240415T130000
DTEND;TZID=America/New_York:20240415T140000
DTSTAMP:20260419T175846
CREATED:20240226T151550Z
LAST-MODIFIED:20240226T151550Z
UID:10000077-1713186000-1713189600@www.tourlexington.us
SUMMARY:Paul Revere Arrives at the Battle Green on Horseback
DESCRIPTION:Greeted by the Select Board and the Lexington Minute Men.
URL:https://www.tourlexington.us/event/paul-revere-arrives-at-the-battle-green-on-horseback/
LOCATION:Lexington Battle Green\, 1625 Massachusetts Ave.\, Lexington\, MA\, 02420\, United States
END:VEVENT
BEGIN:VEVENT
DTSTART;TZID=America/New_York:20240415T101500
DTEND;TZID=America/New_York:20240415T110000
DTSTAMP:20260419T175846
CREATED:20240226T151028Z
LAST-MODIFIED:20240226T151028Z
UID:10000073-1713176100-1713178800@www.tourlexington.us
SUMMARY:Lexington Minute Men (LMM) /Daughters of the American Revolution (DAR) 114th Wreath-laying Ceremony
DESCRIPTION:The LMM and DAR lay wreaths at several of the war monuments around the Battle Green\, including the Revolutionary Monument\, a burial site for the Lexington soldiers killed on April 19\, 1775.
URL:https://www.tourlexington.us/event/lexington-minute-men-lmm-daughters-of-the-american-revolution-dar-114th-wreath-laying-ceremony/
LOCATION:Lexington Battle Green\, 1625 Massachusetts Ave.\, Lexington\, MA\, 02420\, United States
END:VEVENT
BEGIN:VEVENT
DTSTART;TZID=America/New_York:20240415T080000
DTEND;TZID=America/New_York:20240415T090000
DTSTAMP:20260419T175846
CREATED:20240226T150717Z
LAST-MODIFIED:20240226T150717Z
UID:10000071-1713168000-1713171600@www.tourlexington.us
SUMMARY:Patriots’ Day Ceremonies on the Battle Green
DESCRIPTION:Ceremonies will include the announcement of the 2024 recipients of the:\nWhite Tricorne Hat Award\, Lexington Lions Club\nMinuteman Cane Award\nPat Flynn Outstanding Youth Award\nLexington Minute Man Scholarships
URL:https://www.tourlexington.us/event/patriots-day-ceremonies-on-the-battle-green/
LOCATION:Lexington Battle Green\, 1625 Massachusetts Ave.\, Lexington\, MA\, 02420\, United States
END:VEVENT
BEGIN:VEVENT
DTSTART;TZID=America/New_York:20240415T053000
DTEND;TZID=America/New_York:20240415T060000
DTSTAMP:20260419T175846
CREATED:20240226T150446Z
LAST-MODIFIED:20240226T204929Z
UID:10000069-1713159000-1713160800@www.tourlexington.us
SUMMARY:Reenactment of the Battle of Lexington
DESCRIPTION:The central event of Patriots’ Day weekend. The Lexington Minute Men have organized and sponsored the Reenactment since 1971 to recreate the birth of American Liberty on Lexington Common in 1775.  \nReenactment rehearsal: Saturday\, April 6\, 2:00 PM\n(Rehearsal rain date: Sunday\, April 7\, 2:00PM)
URL:https://www.tourlexington.us/event/reenactment-of-the-battle-of-lexington-2/
LOCATION:Lexington Battle Green\, 1625 Massachusetts Ave.\, Lexington\, MA\, 02420\, United States
CATEGORIES:Patriots' Day 2024
END:VEVENT
BEGIN:VEVENT
DTSTART;TZID=America/New_York:20240415T051500
DTEND;TZID=America/New_York:20240415T053000
DTSTAMP:20260419T175846
CREATED:20240226T150247Z
LAST-MODIFIED:20240226T204919Z
UID:10000067-1713158100-1713159000@www.tourlexington.us
SUMMARY:Civilian Evacuation audio plays; Citizens evacuate the Battle Green across Harrington Road
DESCRIPTION:Hearing that a patrol of the British Regular Army was approaching the town\, the women and children as well as some men of Lexington left their homes seeking safer places to wait when the British column marched through town.
URL:https://www.tourlexington.us/event/civilian-evacuation-audio-plays-citizens-evacuate-the-battle-green-across-harrington-road/
LOCATION:Lexington Battle Green\, 1625 Massachusetts Ave.\, Lexington\, MA\, 02420\, United States
CATEGORIES:Patriots' Day 2024
END:VEVENT
BEGIN:VEVENT
DTSTART;TZID=America/New_York:20240415T050500
DTEND;TZID=America/New_York:20240415T171500
DTSTAMP:20260419T175846
CREATED:20240226T150148Z
LAST-MODIFIED:20240226T204905Z
UID:10000066-1713157500-1713201300@www.tourlexington.us
SUMMARY:Captain Parker orders Lt. Tidd to drill some of the company
DESCRIPTION:Lieutenant William Tidd typically drilled the Lexington Militia near his house on the North East corner of the Battle Green\, near Harrington Road.
URL:https://www.tourlexington.us/event/captain-parker-orders-lt-tidd-to-drill-some-of-the-company/
LOCATION:Lexington Battle Green\, 1625 Massachusetts Ave.\, Lexington\, MA\, 02420\, United States
CATEGORIES:Patriots' Day 2024
END:VEVENT
BEGIN:VEVENT
DTSTART;TZID=America/New_York:20240413T090000
DTEND;TZID=America/New_York:20240413T100000
DTSTAMP:20260419T175846
CREATED:20240226T144139Z
LAST-MODIFIED:20240226T204821Z
UID:10000057-1712998800-1713002400@www.tourlexington.us
SUMMARY:Parker's Revenge
DESCRIPTION:Lexington Minute Men reenact the second call to arms from Captain John Parker on the afternoon of April 19\, 1775\, with additional dialogue from Rev. Jonas Clarke. Following this event\, the Minute Men march up Mass Ave to Fiske Hill before continuing on to the Parker’s Revenge site in the Minute Man National Park for a skirmish reenactment.
URL:https://www.tourlexington.us/event/parkers-revenge/
LOCATION:Lexington Battle Green\, 1625 Massachusetts Ave.\, Lexington\, MA\, 02420\, United States
CATEGORIES:Patriots' Day 2024
END:VEVENT
END:VCALENDAR